FILENAME: O4710801.NES.1080686.tif
QUADRANGLE_NAME: JOHN COULEE
QUADRANT: NE
WEST_LONGITUDE: -108 56 15.00000
EAST_LONGITUDE: -108 52 30.00000
NORTH_LATITUDE: 48 0 0.00000
SOUTH_LATITUDE: 47 56 15.00000
PRODUCTION_DATE: 2000 5 31
RASTER_ORDER: LEFT_RIGHT/TOP_BOTTOM
BAND_ORGANIZATION: SINGLE FILE
BAND_CONTENT: BLACK&WHITE
BAND_CONTENT: UNDEFINED
BAND_CONTENT: UNDEFINED
BITS_PER_PIXEL: 8
SAMPLES_AND_LINES: 5511 7679
HORIZONTAL_DATUM: NAD83
HORIZONTAL_COORDINATE_SYSTEM: UTM
COORDINATE_ZONE: 12
HORIZONTAL_UNITS: METERS
HORIZONTAL_RESOLUTION: 1.00000
SECONDARY_HORIZONTAL_DATUM: NAD27
XY_ORIGIN: 653494.00000 5318786.00000
SECONDARY_XY_ORIGIN: 653552.65700 5318569.86000
NATION: US
NATION: "SCIENCE
STATE: MT
NW_QUAD_CORNER_XY: 653849.79100 5318358.48800
NE_QUAD_CORNER_XY: 658511.68700 5318485.14600
SE_QUAD_CORNERY_XY: 658703.12900 5311539.05800
SW_QUAD_CORNER_XY: 654035.59800 5311412.37100
SECONDARY_NW_QUAD_XY: 653854.63300 5318139.67200
SECONDARY_NE_QUAD_XY: 658516.67600 5318266.33400
SECONDARY_SE_QUAD_XY: 658708.11700 5311320.26100
SECONDARY_SW_QUAD_XY: 654040.43900 5311193.57100
RMSE_XY: 1.60000
IMAGE_SOURCE: BLACK AND WHITE FILM
SOURCE_IMAGE_ID: NAPP 9147 131
SOURCE_IMAGE_DATE: 1996 08 24
SOURCE_IMAGE_ID: NAPP 9147 130
SOURCE_IMAGE_DATE: 1996 08 24
SOURCE_IMAGE_ID: NAPP 9147 132
SOURCE_IMAGE_DATE: 1996 08 24
SOURCE_IMAGE_ID: NAPP 9157 075
SOURCE_IMAGE_DATE: 1997 09 05
SOURCE_DEM_DATE: 1970 00 00
AGENCY: WESTERN MAPPING CENTER (WMC)
PRODUCER: UNDEFINED
PRODUCTION_SYSTEM: GIS/MAGIC
COMPRESSION: UNDEFINED
STANDARD_VERSION: 1996 12
METADATA_DATE: 2000 06 14
DATA_FILE_SIZE: 42324480
BYTE_COUNT: 5511
