BEGIN_USGS_DOQ_HEADER *
QUADRANGLE_NAME "New Year" 3.75 or 7.5-min. name*
QUADRANT NW quadrant indicator if cell size = 3.75-minutes*
WEST_LONGITUDE -109 22 30.000 signed deg min sec SDDD MM SS.SSS*
EAST_LONGITUDE -109 18 45.000 signed deg min sec SDDD MM SS.SSS*
NORTH_LATITUDE 47 15 0.000 signed deg min sec SDDD MM SS.SSS*
SOUTH_LATITUDE 47 11 15.000 signed deg min sec SDDD MM SS.SSS*
PRODUCTION_DATE 2003 9 11 yyyy mm dd*
RASTER_ORDER left_right/top_bottom video display order*
BAND_ORGANIZATION "single file" single file or BSQ, or BIL or BIP*
BAND_CONTENT BLACK&WHITE black&white or red green blue*
BITS_PER_PIXEL 8 radiometric resolution*
SAMPLES_AND_LINES 5536 7650 number of columns and rows*
HORIZONTAL_DATUM NAD83 primary horizontal datum*
HORIZONTAL_COORDINATE_SYSTEM UTM *
COORDINATE_ZONE 12 coordinate system zone number*
HORIZONTAL_UNITS meters coordinate system units*
HORIZONTAL_RESOLUTION 1.00 pixel horiz. ground sample distance*
SECONDARY_HORIZONTAL_DATUM NAD27 secondary horizontal datum*
XY_ORIGIN 622607.730 5234626.840 coord. of upper left pixel pri. datum*
SECONDARY_XY_ORIGIN 622667.162 5234411.871 coord upper left pixel sec datum*
NATION US nation code*
STATE MT state fip code*
NW_QUAD_CORNER_XY 622962.850 5234226.926 XY coords. of pri. NW quad corner*
NE_QUAD_CORNER_XY 627692.087 5234327.342 XY coords. of pri. NE quad corner*
SE_QUAD_CORNER_XY 627842.267 5227381.906 XY coords. of pri. SE quad corner*
SW_QUAD_CORNER_XY 623107.466 5227281.474 XY coords. of pri. SW quad corner*
SECONDARY_NW_QUAD_XY 622966.660 5234008.324 XY coords. - sec. NW quad cor.*
SECONDARY_NE_QUAD_XY 627696.043 5234108.743 XY coords. - sec. NE quad cor.*
SECONDARY_SE_QUAD_XY 627846.223 5227163.333 XY coords. - sec. SE quad cor.*
SECONDARY_SW_QUAD_XY 623111.275 5227062.897 XY coords. - sec. SW quad cor.*
RMSE_XY 1.51 doq horiz. accuracy*
IMAGE_SOURCE "BLACK AND WHITE FILM" b&w, cir, natural color, other*
SOURCE_IMAGE_ID "NAPP 9157 260" source image id*
SOURCE_IMAGE_DATE 1997 9 5 source image date as yyyy mm dd*
SOURCE_IMAGE_ID "NAPP 9153 133" source image id*
SOURCE_IMAGE_DATE 1997 8 28 source image date as yyyy mm dd*
SOURCE_IMAGE_ID "NAPP 9153 130" source image id*
SOURCE_IMAGE_DATE 1997 8 28 source image date as yyyy mm dd*
SOURCE_IMAGE_ID "NAPP 9153 135" source image id*
SOURCE_IMAGE_DATE 1997 8 28 source image date as yyyy mm dd*
SOURCE_IMAGE_ID "NAPP 9153 132" source image id*
SOURCE_IMAGE_DATE 1997 8 28 source image date as yyyy mm dd*
SOURCE_IMAGE_ID "NAPP 9153 137" source image id*
SOURCE_IMAGE_DATE 1997 8 28 source image date as yyyy mm dd*
SOURCE_IMAGE_ID "NAPP 9136 032" source image id*
SOURCE_IMAGE_DATE 1996 9 10 source image date as yyyy mm dd*
SOURCE_IMAGE_ID "NAPP 9136 031" source image id*
SOURCE_IMAGE_DATE 1996 9 10 source image date as yyyy mm dd*
SOURCE_DEM_DATE 1982 1 1 source dem date yyyy mm dd*
AGENCY "ROCKY MOUNTAIN MAPPING CENTER (RMMC)" oversight agency*
PRODUCER "ROCKY MOUNTAIN MAPPING CENTER (RMMC)" producer/contractor*
PRODUCTION_SYSTEM "ImageStation OrthoPro 4, 0, 0, 5" production system*
STANDARD_VERSION 1996 12 version of DOQ standard*
METADATA_DATE 2003 9 11 date created or changed, yyyy mm dd*
DATA_FILE_SIZE 42355936 data set size in bytes*
BYTE_COUNT 5536 header byte count*
