FILENAME: O4710926.NWS.1081066.tif
QUADRANGLE_NAME: SPRING COULEE
QUADRANT: NW
WEST_LONGITUDE: -109 52 30.00000
EAST_LONGITUDE: -109 48 45.00000
NORTH_LATITUDE: 47 37 30.00000
SOUTH_LATITUDE: 47 33 45.00000
PRODUCTION_DATE: 2000 6 1
RASTER_ORDER: LEFT_RIGHT/TOP_BOTTOM
BAND_ORGANIZATION: SINGLE FILE
BAND_CONTENT: BLACK&WHITE
BAND_CONTENT: UNDEFINED
BAND_CONTENT: UNDEFINED
BITS_PER_PIXEL: 8
SAMPLES_AND_LINES: 5461 7622
HORIZONTAL_DATUM: NAD83
HORIZONTAL_COORDINATE_SYSTEM: UTM
COORDINATE_ZONE: 12
HORIZONTAL_UNITS: METERS
HORIZONTAL_RESOLUTION: 1.00000
SECONDARY_HORIZONTAL_DATUM: NAD27
XY_ORIGIN: 584168.00000 5275605.00000
SECONDARY_XY_ORIGIN: 584226.88100 5275389.36400
NATION: US
NATION: "SCIENCE
STATE: MT
NW_QUAD_CORNER_XY: 584525.80900 5275234.97400
NE_QUAD_CORNER_XY: 589221.62900 5275304.99000
SE_QUAD_CORNERY_XY: 589327.94200 5268359.00100
SW_QUAD_CORNER_XY: 584626.52600 5268288.97200
SECONDARY_NW_QUAD_XY: 584528.44900 5275016.21700
SECONDARY_NE_QUAD_XY: 589224.41500 5275086.23500
SECONDARY_SE_QUAD_XY: 589330.72800 5268140.26700
SECONDARY_SW_QUAD_XY: 584629.16500 5268070.23500
RMSE_XY: 2.50000
IMAGE_SOURCE: BLACK AND WHITE FILM
SOURCE_IMAGE_ID: NAPP 9128 176
SOURCE_IMAGE_DATE: 1996 07 29
SOURCE_IMAGE_ID: NAPP 9150 227
SOURCE_IMAGE_DATE: 1996 09 11
SOURCE_IMAGE_ID: NAPP 9128 174
SOURCE_IMAGE_DATE: 1996 07 29
SOURCE_IMAGE_ID: NAPP 9128 175
SOURCE_IMAGE_DATE: 1996 07 29
SOURCE_IMAGE_ID: NAPP 9128 177
SOURCE_IMAGE_DATE: 1996 07 29
SOURCE_DEM_DATE: 1987 00 00
AGENCY: WESTERN MAPPING CENTER (WMC)
PRODUCER: UNDEFINED
PRODUCTION_SYSTEM: GIS/MAGIC
COMPRESSION: UNDEFINED
STANDARD_VERSION: 1996 12
METADATA_DATE: 2000 06 15
DATA_FILE_SIZE: 41629203
BYTE_COUNT: 5461
