FILENAME: O4710920.SES.1081099.tif
QUADRANGLE_NAME: COUNCIL ISLAND
QUADRANT: SE
WEST_LONGITUDE: -109 33 45.00000
EAST_LONGITUDE: -109 30 0.00000
NORTH_LATITUDE: 47 41 15.00000
SOUTH_LATITUDE: 47 37 30.00000
PRODUCTION_DATE: 2000 6 6
RASTER_ORDER: LEFT_RIGHT/TOP_BOTTOM
BAND_ORGANIZATION: SINGLE FILE
BAND_CONTENT: BLACK&WHITE
BAND_CONTENT: UNDEFINED
BAND_CONTENT: UNDEFINED
BITS_PER_PIXEL: 8
SAMPLES_AND_LINES: 5483 7641
HORIZONTAL_DATUM: NAD83
HORIZONTAL_COORDINATE_SYSTEM: UTM
COORDINATE_ZONE: 12
HORIZONTAL_UNITS: METERS
HORIZONTAL_RESOLUTION: 1.00000
SECONDARY_HORIZONTAL_DATUM: NAD27
XY_ORIGIN: 607519.00000 5282958.00000
SECONDARY_XY_ORIGIN: 607577.97400 5282742.28000
NATION: US
NATION: "SCIENCE
STATE: MT
NW_QUAD_CORNER_XY: 607875.97200 5282568.90900
NE_QUAD_CORNER_XY: 612566.13500 5282657.83700
SE_QUAD_CORNERY_XY: 612700.57100 5275711.85700
SW_QUAD_CORNER_XY: 608004.80400 5275622.91100
SECONDARY_NW_QUAD_XY: 607879.34500 5282350.14400
SECONDARY_NE_QUAD_XY: 612569.65400 5282439.07500
SECONDARY_SE_QUAD_XY: 612704.09000 5275493.11500
SECONDARY_SW_QUAD_XY: 608008.17700 5275404.16600
RMSE_XY: 3.20000
IMAGE_SOURCE: BLACK AND WHITE FILM
SOURCE_IMAGE_ID: NAPP 9159 022
SOURCE_IMAGE_DATE: 1997 09 22
SOURCE_IMAGE_ID: NAPP 9159 138
SOURCE_IMAGE_DATE: 1997 09 22
SOURCE_IMAGE_ID: NAPP 9159 140
SOURCE_IMAGE_DATE: 1997 09 22
SOURCE_IMAGE_ID: NAPP 9159 114
SOURCE_IMAGE_DATE: 1997 09 22
SOURCE_IMAGE_ID: NAPP 9159 113
SOURCE_IMAGE_DATE: 1997 09 22
SOURCE_DEM_DATE: 1987 00 00
AGENCY: WESTERN MAPPING CENTER (WMC)
PRODUCER: UNDEFINED
PRODUCTION_SYSTEM: GIS/MAGIC
COMPRESSION: UNDEFINED
STANDARD_VERSION: 1996 12
METADATA_DATE: 2000 06 15
DATA_FILE_SIZE: 41901086
BYTE_COUNT: 5483
