FILENAME: O4710916.SES.1083348.tif
QUADRANGLE_NAME: STURGEON ISLAND
QUADRANT: SE
WEST_LONGITUDE: -109 3 45.00000
EAST_LONGITUDE: -109 0 0.00000
NORTH_LATITUDE: 47 48 45.00000
SOUTH_LATITUDE: 47 45 0.00000
PRODUCTION_DATE: 2000 6 13
RASTER_ORDER: LEFT_RIGHT/TOP_BOTTOM
BAND_ORGANIZATION: SINGLE FILE
BAND_CONTENT: BLACK&WHITE
BAND_CONTENT: UNDEFINED
BAND_CONTENT: UNDEFINED
BITS_PER_PIXEL: 8
SAMPLES_AND_LINES: 5516 7671
HORIZONTAL_DATUM: NAD83
HORIZONTAL_COORDINATE_SYSTEM: UTM
COORDINATE_ZONE: 12
HORIZONTAL_UNITS: METERS
HORIZONTAL_RESOLUTION: 1.00000
SECONDARY_HORIZONTAL_DATUM: NAD27
XY_ORIGIN: 644693.00000 5297698.00000
SECONDARY_XY_ORIGIN: 644751.75600 5297482.19600
NATION: US
NATION: "SCIENCE
STATE: MT
NW_QUAD_CORNER_XY: 645049.03500 5297278.21200
NE_QUAD_CORNER_XY: 649727.85500 5297397.38200
SE_QUAD_CORNERY_XY: 649907.49000 5290451.43800
SW_QUAD_CORNER_XY: 645223.05300 5290332.24300
SECONDARY_NW_QUAD_XY: 645053.58300 5297059.43700
SECONDARY_NE_QUAD_XY: 649732.54900 5297178.61000
SECONDARY_SE_QUAD_XY: 649912.18300 5290232.68400
SECONDARY_SW_QUAD_XY: 645227.60000 5290113.48600
RMSE_XY: 1.30000
IMAGE_SOURCE: BLACK AND WHITE FILM
SOURCE_IMAGE_ID: NAPP 9147 206
SOURCE_IMAGE_DATE: 1996 08 24
SOURCE_IMAGE_ID: NAPP 9129 203
SOURCE_IMAGE_DATE: 1996 07 27
SOURCE_IMAGE_ID: NAPP 9129 204
SOURCE_IMAGE_DATE: 1996 07 27
SOURCE_IMAGE_ID: NAPP 9129 205
SOURCE_IMAGE_DATE: 1996 07 27
SOURCE_IMAGE_ID: NAPP 9129 036
SOURCE_IMAGE_DATE: 1996 07 27
SOURCE_DEM_DATE: 1987 00 00
AGENCY: WESTERN MAPPING CENTER (WMC)
PRODUCER: UNDEFINED
PRODUCTION_SYSTEM: GIS/MAGIC
COMPRESSION: UNDEFINED
STANDARD_VERSION: 1996 12
METADATA_DATE: 2000 06 15
DATA_FILE_SIZE: 42318752
BYTE_COUNT: 5516
