FILENAME: O4710915.NES.1082420.tif
QUADRANGLE_NAME: BIRD RAPIDS
QUADRANT: NE
WEST_LONGITUDE: -109 11 15.00000
EAST_LONGITUDE: -109 7 30.00000
NORTH_LATITUDE: 47 52 30.00000
SOUTH_LATITUDE: 47 48 45.00000
PRODUCTION_DATE: 2000 6 12
RASTER_ORDER: LEFT_RIGHT/TOP_BOTTOM
BAND_ORGANIZATION: SINGLE FILE
BAND_CONTENT: BLACK&WHITE
BAND_CONTENT: UNDEFINED
BAND_CONTENT: UNDEFINED
BITS_PER_PIXEL: 8
SAMPLES_AND_LINES: 5500 7663
HORIZONTAL_DATUM: NAD83
HORIZONTAL_COORDINATE_SYSTEM: UTM
COORDINATE_ZONE: 12
HORIZONTAL_UNITS: METERS
HORIZONTAL_RESOLUTION: 1.00000
SECONDARY_HORIZONTAL_DATUM: NAD27
XY_ORIGIN: 635172.00000 5304409.00000
SECONDARY_XY_ORIGIN: 635230.72400 5304193.15800
NATION: US
NATION: "SCIENCE
STATE: MT
NW_QUAD_CORNER_XY: 635528.40000 5303997.31400
NE_QUAD_CORNER_XY: 640201.63000 5304108.88900
SE_QUAD_CORNERY_XY: 640370.19900 5297162.82800
SW_QUAD_CORNER_XY: 635691.34600 5297051.22900
SECONDARY_NW_QUAD_XY: 635532.65400 5303778.51500
SECONDARY_NE_QUAD_XY: 640206.03100 5303890.09300
SECONDARY_SE_QUAD_XY: 640374.60000 5296944.04900
SECONDARY_SW_QUAD_XY: 635695.60000 5296832.44700
RMSE_XY: 2.20000
IMAGE_SOURCE: BLACK AND WHITE FILM
SOURCE_IMAGE_ID: NAPP 9130 038
SOURCE_IMAGE_DATE: 1996 07 27
SOURCE_IMAGE_ID: NAPP 9130 039
SOURCE_IMAGE_DATE: 1996 07 27
SOURCE_IMAGE_ID: NAPP 9129 206
SOURCE_IMAGE_DATE: 1996 07 27
SOURCE_DEM_DATE: 1987 00 00
AGENCY: WESTERN MAPPING CENTER (WMC)
PRODUCER: UNDEFINED
PRODUCTION_SYSTEM: GIS/MAGIC
COMPRESSION: UNDEFINED
STANDARD_VERSION: 1996 12
METADATA_DATE: 2000 06 15
DATA_FILE_SIZE: 42152000
BYTE_COUNT: 5500
