FILENAME: O4710911.NES.1081081.tif
QUADRANGLE_NAME: PIGTAIL COULEE
QUADRANT: NE
WEST_LONGITUDE: -109 41 15.00000
EAST_LONGITUDE: -109 37 30.00000
NORTH_LATITUDE: 47 52 30.00000
SOUTH_LATITUDE: 47 48 45.00000
PRODUCTION_DATE: 2000 6 5
RASTER_ORDER: LEFT_RIGHT/TOP_BOTTOM
BAND_ORGANIZATION: SINGLE FILE
BAND_CONTENT: BLACK&WHITE
BAND_CONTENT: UNDEFINED
BAND_CONTENT: UNDEFINED
BITS_PER_PIXEL: 8
SAMPLES_AND_LINES: 5455 7634
HORIZONTAL_DATUM: NAD83
HORIZONTAL_COORDINATE_SYSTEM: UTM
COORDINATE_ZONE: 12
HORIZONTAL_UNITS: METERS
HORIZONTAL_RESOLUTION: 1.00000
SECONDARY_HORIZONTAL_DATUM: NAD27
XY_ORIGIN: 597785.00000 5303623.00000
SECONDARY_XY_ORIGIN: 597843.89100 5303407.12200
NATION: US
NATION: "SCIENCE
STATE: MT
NW_QUAD_CORNER_XY: 598142.02600 5303240.93500
NE_QUAD_CORNER_XY: 602815.36900 5303322.24100
SE_QUAD_CORNERY_XY: 602938.96900 5296376.01100
SW_QUAD_CORNER_XY: 598260.00600 5296294.68800
SECONDARY_NW_QUAD_XY: 598145.10700 5303022.11200
SECONDARY_NE_QUAD_XY: 602818.59700 5303103.42000
SECONDARY_SE_QUAD_XY: 602942.19600 5296157.20700
SECONDARY_SW_QUAD_XY: 598263.08600 5296075.88100
RMSE_XY: 1.30000
IMAGE_SOURCE: BLACK AND WHITE FILM
SOURCE_IMAGE_ID: NAPP 9159 222
SOURCE_IMAGE_DATE: 1997 09 22
SOURCE_IMAGE_ID: NAPP 9159 223
SOURCE_IMAGE_DATE: 1997 09 22
SOURCE_IMAGE_ID: NAPP 9159 221
SOURCE_IMAGE_DATE: 1997 09 22
SOURCE_DEM_DATE: 1963 00 00
AGENCY: WESTERN MAPPING CENTER (WMC)
PRODUCER: UNDEFINED
PRODUCTION_SYSTEM: GIS/MAGIC
COMPRESSION: UNDEFINED
STANDARD_VERSION: 1996 12
METADATA_DATE: 2000 06 15
DATA_FILE_SIZE: 41648925
BYTE_COUNT: 5455
