FILENAME: O4710905.SES.1079123.tif
QUADRANGLE_NAME: SADDLE ROCK
QUADRANT: SE
WEST_LONGITUDE: -109 26 15.00000
EAST_LONGITUDE: -109 22 30.00000
NORTH_LATITUDE: 47 56 15.00000
SOUTH_LATITUDE: 47 52 30.00000
PRODUCTION_DATE: 2000 5 26
RASTER_ORDER: LEFT_RIGHT/TOP_BOTTOM
BAND_ORGANIZATION: SINGLE FILE
BAND_CONTENT: BLACK&WHITE
BAND_CONTENT: UNDEFINED
BAND_CONTENT: UNDEFINED
BITS_PER_PIXEL: 8
SAMPLES_AND_LINES: 5472 7649
HORIZONTAL_DATUM: NAD83
HORIZONTAL_COORDINATE_SYSTEM: UTM
COORDINATE_ZONE: 12
HORIZONTAL_UNITS: METERS
HORIZONTAL_RESOLUTION: 1.00000
SECONDARY_HORIZONTAL_DATUM: NAD27
XY_ORIGIN: 616338.00000 5310932.00000
SECONDARY_XY_ORIGIN: 616396.82800 5310716.06400
NATION: US
NATION: "SCIENCE
STATE: MT
NW_QUAD_CORNER_XY: 616694.72300 5310535.09900
NE_QUAD_CORNER_XY: 621362.38700 5310631.51700
SE_QUAD_CORNERY_XY: 621508.61500 5303685.29500
SW_QUAD_CORNER_XY: 616835.32300 5303588.85700
SECONDARY_NW_QUAD_XY: 616698.39000 5310316.27100
SECONDARY_NE_QUAD_XY: 621366.20200 5310412.69200
SECONDARY_SE_QUAD_XY: 621512.42900 5303466.48600
SECONDARY_SW_QUAD_XY: 616838.99100 5303370.04400
RMSE_XY: 1.80000
IMAGE_SOURCE: BLACK AND WHITE FILM
SOURCE_IMAGE_ID: NAPP 9163 021
SOURCE_IMAGE_DATE: 1998 07 23
SOURCE_IMAGE_ID: NAPP 9159 031
SOURCE_IMAGE_DATE: 1997 09 22
SOURCE_IMAGE_ID: NAPP 9159 032
SOURCE_IMAGE_DATE: 1997 09 22
SOURCE_IMAGE_ID: NAPP 9163 022
SOURCE_IMAGE_DATE: 1998 07 23
SOURCE_DEM_DATE: 1985 00 00
AGENCY: WESTERN MAPPING CENTER (WMC)
PRODUCER: UNDEFINED
PRODUCTION_SYSTEM: GIS/MAGIC
COMPRESSION: UNDEFINED
STANDARD_VERSION: 1996 12
METADATA_DATE: 2000 06 14
DATA_FILE_SIZE: 41860800
BYTE_COUNT: 5472
