FILENAME: O4710903.SES.1080484.tif
QUADRANGLE_NAME: ESKAY NW
QUADRANT: SE
WEST_LONGITUDE: -109 41 15.00000
EAST_LONGITUDE: -109 37 30.00000
NORTH_LATITUDE: 47 56 15.00000
SOUTH_LATITUDE: 47 52 30.00000
PRODUCTION_DATE: 2000 6 2
RASTER_ORDER: LEFT_RIGHT/TOP_BOTTOM
BAND_ORGANIZATION: SINGLE FILE
BAND_CONTENT: BLACK&WHITE
BAND_CONTENT: UNDEFINED
BAND_CONTENT: UNDEFINED
BITS_PER_PIXEL: 8
SAMPLES_AND_LINES: 5450 7634
HORIZONTAL_DATUM: NAD83
HORIZONTAL_COORDINATE_SYSTEM: UTM
COORDINATE_ZONE: 12
HORIZONTAL_UNITS: METERS
HORIZONTAL_RESOLUTION: 1.00000
SECONDARY_HORIZONTAL_DATUM: NAD27
XY_ORIGIN: 597667.00000 5310569.00000
SECONDARY_XY_ORIGIN: 597725.89400 5310353.10800
NATION: US
NATION: "SCIENCE
STATE: MT
NW_QUAD_CORNER_XY: 598023.92900 5310187.25400
NE_QUAD_CORNER_XY: 602691.64600 5310268.54200
SE_QUAD_CORNERY_XY: 602815.36900 5303322.24100
SW_QUAD_CORNER_XY: 598142.02600 5303240.93500
SECONDARY_NW_QUAD_XY: 598027.01000 5309968.41500
SECONDARY_NE_QUAD_XY: 602694.87400 5310049.70500
SECONDARY_SE_QUAD_XY: 602818.59700 5303103.42000
SECONDARY_SW_QUAD_XY: 598145.10700 5303022.11200
RMSE_XY: 0.80000
IMAGE_SOURCE: BLACK AND WHITE FILM
SOURCE_IMAGE_ID: NAPP 9159 220
SOURCE_IMAGE_DATE: 1997 09 22
SOURCE_IMAGE_ID: NAPP 9160 094
SOURCE_IMAGE_DATE: 1997 09 23
SOURCE_IMAGE_ID: NAPP 9159 221
SOURCE_IMAGE_DATE: 1997 09 22
SOURCE_IMAGE_ID: NAPP 9159 219
SOURCE_IMAGE_DATE: 1997 09 22
SOURCE_DEM_DATE: 1975 00 00
AGENCY: WESTERN MAPPING CENTER (WMC)
PRODUCER: UNDEFINED
PRODUCTION_SYSTEM: GIS/MAGIC
COMPRESSION: UNDEFINED
STANDARD_VERSION: 1996 12
METADATA_DATE: 2000 06 14
DATA_FILE_SIZE: 41610750
BYTE_COUNT: 5450
