FILENAME: O4710901.NWS.1080052.tif
QUADRANGLE_NAME: EAGLETON NW
QUADRANT: NW
WEST_LONGITUDE: -110 0 0.00000
EAST_LONGITUDE: -109 56 15.00000
NORTH_LATITUDE: 48 0 0.00000
SOUTH_LATITUDE: 47 56 15.00000
PRODUCTION_DATE: 2000 6 1
RASTER_ORDER: LEFT_RIGHT/TOP_BOTTOM
BAND_ORGANIZATION: SINGLE FILE
BAND_CONTENT: BLACK&WHITE
BAND_CONTENT: UNDEFINED
BAND_CONTENT: UNDEFINED
BITS_PER_PIXEL: 8
SAMPLES_AND_LINES: 5417 7615
HORIZONTAL_DATUM: NAD83
HORIZONTAL_COORDINATE_SYSTEM: UTM
COORDINATE_ZONE: 12
HORIZONTAL_UNITS: METERS
HORIZONTAL_RESOLUTION: 1.00000
SECONDARY_HORIZONTAL_DATUM: NAD27
XY_ORIGIN: 574237.00000 5317147.00000
SECONDARY_XY_ORIGIN: 574295.80800 5316931.42100
NATION: US
NATION: "SCIENCE
STATE: MT
NW_QUAD_CORNER_XY: 574595.11200 5316784.00900
NE_QUAD_CORNER_XY: 579257.25300 5316846.37500
SE_QUAD_CORNERY_XY: 579352.94600 5309899.91900
SW_QUAD_CORNER_XY: 574685.17500 5309837.53900
SECONDARY_NW_QUAD_XY: 574597.46000 5316565.14300
SECONDARY_NE_QUAD_XY: 579259.74800 5316627.51100
SECONDARY_SE_QUAD_XY: 579355.44000 5309681.07100
SECONDARY_SW_QUAD_XY: 574687.52300 5309618.68900
RMSE_XY: 0.80000
IMAGE_SOURCE: BLACK AND WHITE FILM
SOURCE_IMAGE_ID: NAPP 9158 017
SOURCE_IMAGE_DATE: 1997 09 04
SOURCE_IMAGE_ID: NAPP 9178 201
SOURCE_IMAGE_DATE: 1997 09 04
SOURCE_IMAGE_ID: NAPP 9158 016
SOURCE_IMAGE_DATE: 1997 09 04
SOURCE_IMAGE_ID: NAPP 9158 018
SOURCE_IMAGE_DATE: 1997 09 04
SOURCE_DEM_DATE: 1975 00 00
AGENCY: WESTERN MAPPING CENTER (WMC)
PRODUCER: UNDEFINED
PRODUCTION_SYSTEM: GIS/MAGIC
COMPRESSION: UNDEFINED
STANDARD_VERSION: 1996 12
METADATA_DATE: 2000 06 12
DATA_FILE_SIZE: 41255872
BYTE_COUNT: 5417
