FILENAME: O4710901.SES.1080053.tif
QUADRANGLE_NAME: EAGLETON NW
QUADRANT: SE
WEST_LONGITUDE: -109 56 15.00000
EAST_LONGITUDE: -109 52 30.00000
NORTH_LATITUDE: 47 56 15.00000
SOUTH_LATITUDE: 47 52 30.00000
PRODUCTION_DATE: 2000 6 1
RASTER_ORDER: LEFT_RIGHT/TOP_BOTTOM
BAND_ORGANIZATION: SINGLE FILE
BAND_CONTENT: BLACK&WHITE
BAND_CONTENT: UNDEFINED
BAND_CONTENT: UNDEFINED
BITS_PER_PIXEL: 8
SAMPLES_AND_LINES: 5428 7619
HORIZONTAL_DATUM: NAD83
HORIZONTAL_COORDINATE_SYSTEM: UTM
COORDINATE_ZONE: 12
HORIZONTAL_UNITS: METERS
HORIZONTAL_RESOLUTION: 1.00000
SECONDARY_HORIZONTAL_DATUM: NAD27
XY_ORIGIN: 578995.00000 5310267.00000
SECONDARY_XY_ORIGIN: 579053.80300 5310051.31200
NATION: US
NATION: "SCIENCE
STATE: MT
NW_QUAD_CORNER_XY: 579352.94600 5309899.91900
NE_QUAD_CORNER_XY: 584020.70800 5309966.08100
SE_QUAD_CORNERY_XY: 584121.93000 5303019.71300
SW_QUAD_CORNER_XY: 579448.54400 5302953.53700
SECONDARY_NW_QUAD_XY: 579355.44000 5309681.07100
SECONDARY_NE_QUAD_XY: 584023.34800 5309747.23400
SECONDARY_SE_QUAD_XY: 584124.57000 5302800.88300
SECONDARY_SW_QUAD_XY: 579451.03800 5302734.70500
RMSE_XY: 1.00000
IMAGE_SOURCE: BLACK AND WHITE FILM
SOURCE_IMAGE_ID: NAPP 9128 259
SOURCE_IMAGE_DATE: 1996 07 29
SOURCE_IMAGE_ID: NAPP 9128 260
SOURCE_IMAGE_DATE: 1996 07 29
SOURCE_IMAGE_ID: NAPP 9128 258
SOURCE_IMAGE_DATE: 1996 07 29
SOURCE_DEM_DATE: 1975 00 00
AGENCY: WESTERN MAPPING CENTER (WMC)
PRODUCER: UNDEFINED
PRODUCTION_SYSTEM: GIS/MAGIC
COMPRESSION: UNDEFINED
STANDARD_VERSION: 1996 12
METADATA_DATE: 2000 06 12
DATA_FILE_SIZE: 41361360
BYTE_COUNT: 5428
