FILENAME: O4711139.NWS.727317.tif
QUADRANGLE_NAME: SOUTHEAST GREAT FALLS
QUADRANT: NW
WEST_LONGITUDE: -111 15 0.00000
EAST_LONGITUDE: -111 11 15.00000
NORTH_LATITUDE: 47 30 0.00000
SOUTH_LATITUDE: 47 26 15.00000
PRODUCTION_DATE: 1997 8 1
RASTER_ORDER: LEFT_RIGHT/TOP_BOTTOM
BAND_ORGANIZATION: SINGLE FILE
BAND_CONTENT: BLACK&WHITE
BAND_CONTENT: UNDEFINED
BAND_CONTENT: UNDEFINED
BITS_PER_PIXEL: 8
SAMPLES_AND_LINES: 5390 7564
HORIZONTAL_DATUM: NAD83
HORIZONTAL_COORDINATE_SYSTEM: UTM
COORDINATE_ZONE: 12
HORIZONTAL_UNITS: METERS
HORIZONTAL_RESOLUTION: 1.00000
SECONDARY_HORIZONTAL_DATUM: NAD27
XY_ORIGIN: 480789.13600 5261059.51900
SECONDARY_XY_ORIGIN: 480849.47700 5260845.30200
NATION: US
STATE: MT
NW_QUAD_CORNER_XY: 481171.64800 5260760.01900
NE_QUAD_CORNER_XY: 485878.73400 5260746.76900
SE_QUAD_CORNERY_XY: 485861.98400 5253800.80300
SW_QUAD_CORNER_XY: 481149.31400 5253814.05500
SECONDARY_NW_QUAD_XY: 481171.06100 5260541.28500
SECONDARY_NE_QUAD_XY: 485878.29400 5260528.03500
SECONDARY_SE_QUAD_XY: 485861.54400 5253582.09100
SECONDARY_SW_QUAD_XY: 481148.72700 5253595.34400
RMSE_XY: 1.10000
IMAGE_SOURCE: BLACK AND WHITE FILM
SOURCE_IMAGE_ID: NAPP 8372 99
SOURCE_IMAGE_DATE: 1995 7 8
SOURCE_DEM_DATE: 1997 8 1
AGENCY: WESTERN MAPPING CENTER (WMC)
PRODUCER: Nies Mapping Group
PRODUCTION_SYSTEM: INTERGRAPH- ISPM,ISIR
COMPRESSION: UNDEFINED
STANDARD_VERSION: 1996 12
METADATA_DATE: 1997 12 30
DATA_FILE_SIZE: 40775350
BYTE_COUNT: 5390
