FILENAME: O4711138.SWS.727339.tif
QUADRANGLE_NAME: SOUTHWEST GREAT FALLS
QUADRANT: SW
WEST_LONGITUDE: -111 22 30.00000
EAST_LONGITUDE: -111 18 45.00000
NORTH_LATITUDE: 47 26 15.00000
SOUTH_LATITUDE: 47 22 30.00000
PRODUCTION_DATE: 1997 8 1
RASTER_ORDER: LEFT_RIGHT/TOP_BOTTOM
BAND_ORGANIZATION: SINGLE FILE
BAND_CONTENT: BLACK&WHITE
BAND_CONTENT: UNDEFINED
BAND_CONTENT: UNDEFINED
BITS_PER_PIXEL: 8
SAMPLES_AND_LINES: 5407 7571
HORIZONTAL_DATUM: NAD83
HORIZONTAL_COORDINATE_SYSTEM: UTM
COORDINATE_ZONE: 12
HORIZONTAL_UNITS: METERS
HORIZONTAL_RESOLUTION: 1.00000
SECONDARY_HORIZONTAL_DATUM: NAD27
XY_ORIGIN: 471330.46800 5254151.41900
SECONDARY_XY_ORIGIN: 471390.25800 5253937.22900
NATION: US
STATE: MT
NW_QUAD_CORNER_XY: 471723.98000 5253851.91900
NE_QUAD_CORNER_XY: 476436.64600 5253831.09400
SE_QUAD_CORNERY_XY: 476408.75600 5246885.20900
SW_QUAD_CORNER_XY: 471690.51300 5246906.03800
SECONDARY_NW_QUAD_XY: 471723.10000 5253633.20900
SECONDARY_NE_QUAD_XY: 476435.91300 5253612.38300
SECONDARY_SE_QUAD_XY: 476408.02300 5246666.52100
SECONDARY_SW_QUAD_XY: 471689.63300 5246687.35100
RMSE_XY: 1.20000
IMAGE_SOURCE: BLACK AND WHITE FILM
SOURCE_IMAGE_ID: NAPP 8372 151
SOURCE_IMAGE_DATE: 1995 7 8
SOURCE_DEM_DATE: 1997 8 1
AGENCY: WESTERN MAPPING CENTER (WMC)
PRODUCER: Nies Mapping Group
PRODUCTION_SYSTEM: INTERGRAPH- ISPM,ISIR
COMPRESSION: UNDEFINED
STANDARD_VERSION: 1996 12
METADATA_DATE: 1997 12 30
DATA_FILE_SIZE: 40941804
BYTE_COUNT: 5407
