FILENAME: O4711136.NWS.949917.tif
QUADRANGLE_NAME: ULM
QUADRANT: NW
WEST_LONGITUDE: -111 37 30.00000
EAST_LONGITUDE: -111 33 45.00000
NORTH_LATITUDE: 47 30 0.00000
SOUTH_LATITUDE: 47 26 15.00000
PRODUCTION_DATE: 1999 01 02
RASTER_ORDER: LEFT_RIGHT/TOP_BOTTOM
BAND_ORGANIZATION: SINGLE FILE
BAND_CONTENT: BLACK&WHITE
BAND_CONTENT: UNDEFINED
BAND_CONTENT: UNDEFINED
BITS_PER_PIXEL: 8
SAMPLES_AND_LINES: 5460 7590
HORIZONTAL_DATUM: NAD83
HORIZONTAL_COORDINATE_SYSTEM: UTM
COORDINATE_ZONE: 12
HORIZONTAL_UNITS: METERS
HORIZONTAL_RESOLUTION: 1.00000
SECONDARY_HORIZONTAL_DATUM: NAD27
XY_ORIGIN: 452490.00000 5261220.00000
SECONDARY_XY_ORIGIN: 452549.67100 5261005.74900
NATION: US
STATE: MT
NW_QUAD_CORNER_XY: 452929.18600 5260919.01900
NE_QUAD_CORNER_XY: 457636.25400 5260883.05400
SE_QUAD_CORNERY_XY: 457586.00100 5253937.11300
SW_QUAD_CORNER_XY: 452873.35000 5253973.08500
SECONDARY_NW_QUAD_XY: 452927.72000 5260700.29000
SECONDARY_NE_QUAD_XY: 457634.93500 5260664.32400
SECONDARY_SE_QUAD_XY: 457584.68200 5253718.40500
SECONDARY_SW_QUAD_XY: 452871.88400 5253754.37800
RMSE_XY: 0.72000
IMAGE_SOURCE: BLACK AND WHITE FILM
SOURCE_IMAGE_ID: NAPP 8373 85
SOURCE_IMAGE_DATE: 1995 08 09
SOURCE_DEM_DATE: 1990 00 00
AGENCY: WESTERN MAPPING CENTER (WMC)
PRODUCER: ANALYTICAL SURVEYS INC.
PRODUCTION_SYSTEM: ORBIT OR_RECTIFY V.5.2
COMPRESSION: UNDEFINED
STANDARD_VERSION: 1996 12
METADATA_DATE: 1999 01 05
DATA_FILE_SIZE: 41446860
BYTE_COUNT: 5460
