FILENAME: O4711134.NWS.727405.tif
QUADRANGLE_NAME: CASCADE COLONY
QUADRANT: NW
WEST_LONGITUDE: -111 52 30.00000
EAST_LONGITUDE: -111 48 45.00000
NORTH_LATITUDE: 47 30 0.00000
SOUTH_LATITUDE: 47 26 15.00000
PRODUCTION_DATE: 1997 8 4
RASTER_ORDER: LEFT_RIGHT/TOP_BOTTOM
BAND_ORGANIZATION: SINGLE FILE
BAND_CONTENT: BLACK&WHITE
BAND_CONTENT: UNDEFINED
BAND_CONTENT: UNDEFINED
BITS_PER_PIXEL: 8
SAMPLES_AND_LINES: 5447 7602
HORIZONTAL_DATUM: NAD83
HORIZONTAL_COORDINATE_SYSTEM: UTM
COORDINATE_ZONE: 12
HORIZONTAL_UNITS: METERS
HORIZONTAL_RESOLUTION: 1.00000
SECONDARY_HORIZONTAL_DATUM: NAD27
XY_ORIGIN: 433661.05200 5261400.24000
SECONDARY_XY_ORIGIN: 433721.15400 5261186.28000
NATION: US
STATE: MT
NW_QUAD_CORNER_XY: 434100.96900 5261100.74000
NE_QUAD_CORNER_XY: 438808.01400 5261049.63100
SE_QUAD_CORNERY_XY: 438735.42500 5254103.72100
SW_QUAD_CORNER_XY: 434022.79500 5254154.84000
SECONDARY_NW_QUAD_XY: 434098.91600 5260882.01700
SECONDARY_NE_QUAD_XY: 438806.10800 5260830.90600
SECONDARY_SE_QUAD_XY: 438733.51900 5253885.01800
SECONDARY_SW_QUAD_XY: 434020.74300 5253936.13800
RMSE_XY: 1.20000
IMAGE_SOURCE: BLACK AND WHITE FILM
SOURCE_IMAGE_ID: NAPP 8373 180
SOURCE_IMAGE_DATE: 1995 8 9
SOURCE_DEM_DATE: 1997 8 4
AGENCY: WESTERN MAPPING CENTER (WMC)
PRODUCER: Nies Mapping Group
PRODUCTION_SYSTEM: INTERGRAPH- ISPM,ISIR
COMPRESSION: UNDEFINED
STANDARD_VERSION: 1996 12
METADATA_DATE: 1997 12 30
DATA_FILE_SIZE: 41413541
BYTE_COUNT: 5447
