FILENAME: O4711133.SES.727434.tif
QUADRANGLE_NAME: SIMMS
QUADRANT: SE
WEST_LONGITUDE: -111 56 15.00000
EAST_LONGITUDE: -111 52 30.00000
NORTH_LATITUDE: 47 26 15.00000
SOUTH_LATITUDE: 47 22 30.00000
PRODUCTION_DATE: 1997 8 11
RASTER_ORDER: LEFT_RIGHT/TOP_BOTTOM
BAND_ORGANIZATION: SINGLE FILE
BAND_CONTENT: BLACK&WHITE
BAND_CONTENT: UNDEFINED
BAND_CONTENT: UNDEFINED
BITS_PER_PIXEL: 8
SAMPLES_AND_LINES: 5459 7606
HORIZONTAL_DATUM: NAD83
HORIZONTAL_COORDINATE_SYSTEM: UTM
COORDINATE_ZONE: 12
HORIZONTAL_UNITS: METERS
HORIZONTAL_RESOLUTION: 1.00000
SECONDARY_HORIZONTAL_DATUM: NAD27
XY_ORIGIN: 428864.37900 5254509.24600
SECONDARY_XY_ORIGIN: 428924.70200 5254295.43300
NATION: US
STATE: MT
NW_QUAD_CORNER_XY: 429310.17100 5254209.74600
NE_QUAD_CORNER_XY: 434022.79500 5254154.84000
SE_QUAD_CORNERY_XY: 433944.70000 5247209.01300
SW_QUAD_CORNER_XY: 429226.49700 5247263.92900
SECONDARY_NW_QUAD_XY: 429307.97300 5253991.04600
SECONDARY_NE_QUAD_XY: 434020.74300 5253936.13800
SECONDARY_SE_QUAD_XY: 433942.64800 5246990.33500
SECONDARY_SW_QUAD_XY: 429224.29900 5247045.25300
RMSE_XY: 0.90000
IMAGE_SOURCE: BLACK AND WHITE FILM
SOURCE_IMAGE_ID: NAPP 8373 237
SOURCE_IMAGE_DATE: 1995 8 9
SOURCE_DEM_DATE: 1997 8 11
AGENCY: WESTERN MAPPING CENTER (WMC)
PRODUCER: Nies Mapping Group
PRODUCTION_SYSTEM: INTERGRAPH- ISPM,ISIR
COMPRESSION: UNDEFINED
STANDARD_VERSION: 1996 12
METADATA_DATE: 1997 12 30
DATA_FILE_SIZE: 41526613
BYTE_COUNT: 5459
