FILENAME: O4711128.NWS.727377.tif
QUADRANGLE_NAME: VAUGHN
QUADRANT: NW
WEST_LONGITUDE: -111 37 30.00000
EAST_LONGITUDE: -111 33 45.00000
NORTH_LATITUDE: 47 37 30.00000
SOUTH_LATITUDE: 47 33 45.00000
PRODUCTION_DATE: 1997 8 1
RASTER_ORDER: LEFT_RIGHT/TOP_BOTTOM
BAND_ORGANIZATION: SINGLE FILE
BAND_CONTENT: BLACK&WHITE
BAND_CONTENT: UNDEFINED
BAND_CONTENT: UNDEFINED
BITS_PER_PIXEL: 8
SAMPLES_AND_LINES: 5413 7586
HORIZONTAL_DATUM: NAD83
HORIZONTAL_COORDINATE_SYSTEM: UTM
COORDINATE_ZONE: 12
HORIZONTAL_UNITS: METERS
HORIZONTAL_RESOLUTION: 1.00000
SECONDARY_HORIZONTAL_DATUM: NAD27
XY_ORIGIN: 452624.47600 5275110.61300
SECONDARY_XY_ORIGIN: 452684.09800 5274896.13700
NATION: US
STATE: MT
NW_QUAD_CORNER_XY: 453041.02900 5274811.11300
NE_QUAD_CORNER_XY: 457736.91200 5274775.16200
SE_QUAD_CORNERY_XY: 457686.55700 5267829.07100
SW_QUAD_CORNER_XY: 452985.07900 5267865.02900
SECONDARY_NW_QUAD_XY: 453039.56300 5274592.34300
SECONDARY_NE_QUAD_XY: 457735.59200 5274556.39100
SECONDARY_SE_QUAD_XY: 457685.23800 5267610.32000
SECONDARY_SW_QUAD_XY: 452983.61300 5267646.27900
RMSE_XY: 1.10000
IMAGE_SOURCE: BLACK AND WHITE FILM
SOURCE_IMAGE_ID: NAPP 8373 81
SOURCE_IMAGE_DATE: 1995 8 9
SOURCE_DEM_DATE: 1997 8 1
AGENCY: WESTERN MAPPING CENTER (WMC)
PRODUCER: Nies Mapping Group
PRODUCTION_SYSTEM: INTERGRAPH- ISPM,ISIR
COMPRESSION: UNDEFINED
STANDARD_VERSION: 1996 12
METADATA_DATE: 1997 12 30
DATA_FILE_SIZE: 41068431
BYTE_COUNT: 5413
