FILENAME: O4711128.SES.727378.tif
QUADRANGLE_NAME: VAUGHN
QUADRANT: SE
WEST_LONGITUDE: -111 33 45.00000
EAST_LONGITUDE: -111 30 0.00000
NORTH_LATITUDE: 47 33 45.00000
SOUTH_LATITUDE: 47 30 0.00000
PRODUCTION_DATE: 1997 8 1
RASTER_ORDER: LEFT_RIGHT/TOP_BOTTOM
BAND_ORGANIZATION: SINGLE FILE
BAND_CONTENT: BLACK&WHITE
BAND_CONTENT: UNDEFINED
BAND_CONTENT: UNDEFINED
BITS_PER_PIXEL: 8
SAMPLES_AND_LINES: 5413 7582
HORIZONTAL_DATUM: NAD83
HORIZONTAL_COORDINATE_SYSTEM: UTM
COORDINATE_ZONE: 12
HORIZONTAL_UNITS: METERS
HORIZONTAL_RESOLUTION: 1.00000
SECONDARY_HORIZONTAL_DATUM: NAD27
XY_ORIGIN: 457275.86500 5268128.57100
SECONDARY_XY_ORIGIN: 457335.40300 5267914.13000
NATION: US
STATE: MT
NW_QUAD_CORNER_XY: 457686.55700 5267829.07100
NE_QUAD_CORNER_XY: 462388.04000 5267796.89800
SE_QUAD_CORNERY_XY: 462343.32600 5260850.87600
SW_QUAD_CORNER_XY: 457636.25400 5260883.05500
SECONDARY_NW_QUAD_XY: 457685.23800 5267610.32000
SECONDARY_NE_QUAD_XY: 462386.86700 5267578.14600
SECONDARY_SE_QUAD_XY: 462342.15300 5260632.14500
SECONDARY_SW_QUAD_XY: 457634.93500 5260664.32500
RMSE_XY: 1.80000
IMAGE_SOURCE: BLACK AND WHITE FILM
SOURCE_IMAGE_ID: NAPP 8373 52
SOURCE_IMAGE_DATE: 1995 8 9
SOURCE_DEM_DATE: 1997 8 1
AGENCY: WESTERN MAPPING CENTER (WMC)
PRODUCER: Nies Mapping Group
PRODUCTION_SYSTEM: INTERGRAPH- ISPM,ISIR
COMPRESSION: UNDEFINED
STANDARD_VERSION: 1996 12
METADATA_DATE: 1997 12 30
DATA_FILE_SIZE: 41046779
BYTE_COUNT: 5413
