FILENAME: O4711127.NES.727388.tif
QUADRANGLE_NAME: SUN RIVER
QUADRANT: NE
WEST_LONGITUDE: -111 41 15.00000
EAST_LONGITUDE: -111 37 30.00000
NORTH_LATITUDE: 47 37 30.00000
SOUTH_LATITUDE: 47 33 45.00000
PRODUCTION_DATE: 1997 8 5
RASTER_ORDER: LEFT_RIGHT/TOP_BOTTOM
BAND_ORGANIZATION: SINGLE FILE
BAND_CONTENT: BLACK&WHITE
BAND_CONTENT: UNDEFINED
BAND_CONTENT: UNDEFINED
BITS_PER_PIXEL: 8
SAMPLES_AND_LINES: 5419 7590
HORIZONTAL_DATUM: NAD83
HORIZONTAL_COORDINATE_SYSTEM: UTM
COORDINATE_ZONE: 12
HORIZONTAL_UNITS: METERS
HORIZONTAL_RESOLUTION: 1.00000
SECONDARY_HORIZONTAL_DATUM: NAD27
XY_ORIGIN: 447922.75100 5275150.34900
SECONDARY_XY_ORIGIN: 447982.49400 5274935.94300
NATION: US
STATE: MT
NW_QUAD_CORNER_XY: 448345.15100 5274850.84900
NE_QUAD_CORNER_XY: 453041.02900 5274811.11300
SE_QUAD_CORNERY_XY: 452985.07900 5267865.02900
SW_QUAD_CORNER_XY: 448283.60600 5267904.77200
SECONDARY_NW_QUAD_XY: 448343.53800 5274632.08000
SECONDARY_NE_QUAD_XY: 453039.56300 5274592.34300
SECONDARY_SE_QUAD_XY: 452983.61300 5267646.27900
SECONDARY_SW_QUAD_XY: 448281.99400 5267686.02400
RMSE_XY: 1.00000
IMAGE_SOURCE: BLACK AND WHITE FILM
SOURCE_IMAGE_ID: NAPP 8373 104
SOURCE_IMAGE_DATE: 1995 8 9
SOURCE_DEM_DATE: 1997 8 5
AGENCY: WESTERN MAPPING CENTER (WMC)
PRODUCER: Nies Mapping Group
PRODUCTION_SYSTEM: INTERGRAPH- ISPM,ISIR
COMPRESSION: UNDEFINED
STANDARD_VERSION: 1996 12
METADATA_DATE: 1997 12 30
DATA_FILE_SIZE: 41135629
BYTE_COUNT: 5419
