FILENAME: O4711125.SWS.727431.tif
QUADRANGLE_NAME: FAIRFIELD
QUADRANT: SW
WEST_LONGITUDE: -112 0 0.00000
EAST_LONGITUDE: -111 56 15.00000
NORTH_LATITUDE: 47 33 45.00000
SOUTH_LATITUDE: 47 30 0.00000
PRODUCTION_DATE: 1997 8 11
RASTER_ORDER: LEFT_RIGHT/TOP_BOTTOM
BAND_ORGANIZATION: SINGLE FILE
BAND_CONTENT: BLACK&WHITE
BAND_CONTENT: UNDEFINED
BAND_CONTENT: UNDEFINED
BITS_PER_PIXEL: 8
SAMPLES_AND_LINES: 5454 7609
HORIZONTAL_DATUM: NAD83
HORIZONTAL_COORDINATE_SYSTEM: UTM
COORDINATE_ZONE: 12
HORIZONTAL_UNITS: METERS
HORIZONTAL_RESOLUTION: 1.00000
SECONDARY_HORIZONTAL_DATUM: NAD27
XY_ORIGIN: 424324.71600 5268459.77200
SECONDARY_XY_ORIGIN: 424385.16500 5268245.78000
NATION: US
STATE: MT
NW_QUAD_CORNER_XY: 424776.33200 5268160.27200
NE_QUAD_CORNER_XY: 429477.77300 5268101.60100
SE_QUAD_CORNERY_XY: 429393.93000 5261155.63600
SW_QUAD_CORNER_XY: 424686.89800 5261214.31900
SECONDARY_NW_QUAD_XY: 424773.98600 5267941.53100
SECONDARY_NE_QUAD_XY: 429475.57400 5267882.85800
SECONDARY_SE_QUAD_XY: 429391.73100 5260936.91500
SECONDARY_SW_QUAD_XY: 424684.55300 5260995.59900
RMSE_XY: 1.10000
IMAGE_SOURCE: BLACK AND WHITE FILM
SOURCE_IMAGE_ID: NAPP 8373 252
SOURCE_IMAGE_DATE: 1995 8 9
SOURCE_DEM_DATE: 1997 8 11
AGENCY: WESTERN MAPPING CENTER (WMC)
PRODUCER: Nies Mapping Group
PRODUCTION_SYSTEM: INTERGRAPH- ISPM,ISIR
COMPRESSION: UNDEFINED
STANDARD_VERSION: 1996 12
METADATA_DATE: 1997 12 30
DATA_FILE_SIZE: 41504940
BYTE_COUNT: 5454
