FILENAME: O4711123.SWS.1078178.tif
QUADRANGLE_NAME: FLICK LAKE
QUADRANT: SW
WEST_LONGITUDE: -111 15 0.00000
EAST_LONGITUDE: -111 11 15.00000
NORTH_LATITUDE: 47 41 15.00000
SOUTH_LATITUDE: 47 37 30.00000
PRODUCTION_DATE: 2000 5 4
RASTER_ORDER: LEFT_RIGHT/TOP_BOTTOM
BAND_ORGANIZATION: SINGLE FILE
BAND_CONTENT: BLACK&WHITE
BAND_CONTENT: UNDEFINED
BAND_CONTENT: UNDEFINED
BITS_PER_PIXEL: 8
SAMPLES_AND_LINES: 5376 7567
HORIZONTAL_DATUM: NAD83
HORIZONTAL_COORDINATE_SYSTEM: UTM
COORDINATE_ZONE: 12
HORIZONTAL_UNITS: METERS
HORIZONTAL_RESOLUTION: 1.00000
SECONDARY_HORIZONTAL_DATUM: NAD27
XY_ORIGIN: 480855.00000 5281899.00000
SECONDARY_XY_ORIGIN: 480914.37100 5281684.35600
NATION: US
NATION: "SCIENCE
STATE: MT
NW_QUAD_CORNER_XY: 481238.78500 5281598.36400
NE_QUAD_CORNER_XY: 485929.08700 5281585.12200
SE_QUAD_CORNERY_XY: 485912.28600 5274638.92800
SW_QUAD_CORNER_XY: 481216.38300 5274652.17300
SECONDARY_NW_QUAD_XY: 481238.19800 5281379.57000
SECONDARY_NE_QUAD_XY: 485928.64700 5281366.32700
SECONDARY_SE_QUAD_XY: 485911.84600 5274420.15300
SECONDARY_SW_QUAD_XY: 481215.79700 5274433.39800
RMSE_XY: 0.90000
IMAGE_SOURCE: BLACK AND WHITE FILM
SOURCE_IMAGE_ID: NAPP 8372 093
SOURCE_IMAGE_DATE: 1995 07 08
SOURCE_IMAGE_ID: NAPP 8372 094
SOURCE_IMAGE_DATE: 1995 07 08
SOURCE_IMAGE_ID: NAPP 8372 091
SOURCE_IMAGE_DATE: 1995 07 08
SOURCE_DEM_DATE: 2000 01 01
AGENCY: WESTERN MAPPING CENTER (WMC)
PRODUCER: UNDEFINED
PRODUCTION_SYSTEM: GIS/MAGIC
COMPRESSION: UNDEFINED
STANDARD_VERSION: 1996 12
METADATA_DATE: 2000 06 02
DATA_FILE_SIZE: 40685568
BYTE_COUNT: 5376
