FILENAME: O4711122.SWS.727331.tif
QUADRANGLE_NAME: BENTON LAKE EAST
QUADRANT: SW
WEST_LONGITUDE: -111 22 30.00000
EAST_LONGITUDE: -111 18 45.00000
NORTH_LATITUDE: 47 41 15.00000
SOUTH_LATITUDE: 47 37 30.00000
PRODUCTION_DATE: 1997 8 1
RASTER_ORDER: LEFT_RIGHT/TOP_BOTTOM
BAND_ORGANIZATION: SINGLE FILE
BAND_CONTENT: BLACK&WHITE
BAND_CONTENT: UNDEFINED
BAND_CONTENT: UNDEFINED
BITS_PER_PIXEL: 8
SAMPLES_AND_LINES: 5384 7571
HORIZONTAL_DATUM: NAD83
HORIZONTAL_COORDINATE_SYSTEM: UTM
COORDINATE_ZONE: 12
HORIZONTAL_UNITS: METERS
HORIZONTAL_RESOLUTION: 1.00000
SECONDARY_HORIZONTAL_DATUM: NAD27
XY_ORIGIN: 471464.65900 5281935.70000
SECONDARY_XY_ORIGIN: 471524.00700 5281721.00700
NATION: US
STATE: MT
NW_QUAD_CORNER_XY: 471858.18800 5281636.20000
NE_QUAD_CORNER_XY: 476548.48500 5281615.39100
SE_QUAD_CORNERY_XY: 476520.48300 5274669.20300
SW_QUAD_CORNER_XY: 471824.58500 5274690.01600
SECONDARY_NW_QUAD_XY: 471857.30800 5281417.40700
SECONDARY_NE_QUAD_XY: 476547.75200 5281396.59700
SECONDARY_SE_QUAD_XY: 476519.75000 5274450.42800
SECONDARY_SW_QUAD_XY: 471823.70500 5274471.24200
RMSE_XY: 1.10000
IMAGE_SOURCE: BLACK AND WHITE FILM
SOURCE_IMAGE_ID: NAPP 8372 143
SOURCE_IMAGE_DATE: 1995 7 8
SOURCE_DEM_DATE: 1997 8 1
AGENCY: WESTERN MAPPING CENTER (WMC)
PRODUCER: Nies Mapping Group
PRODUCTION_SYSTEM: INTERGRAPH- ISPM,ISIR
COMPRESSION: UNDEFINED
STANDARD_VERSION: 1996 12
METADATA_DATE: 1997 12 28
DATA_FILE_SIZE: 40767648
BYTE_COUNT: 5384
