FILENAME: O4711121.SES.727357.tif
QUADRANGLE_NAME: BENTON LAKE WEST
QUADRANT: SE
WEST_LONGITUDE: -111 26 15.00000
EAST_LONGITUDE: -111 22 30.00000
NORTH_LATITUDE: 47 41 15.00000
SOUTH_LATITUDE: 47 37 30.00000
PRODUCTION_DATE: 1997 8 1
RASTER_ORDER: LEFT_RIGHT/TOP_BOTTOM
BAND_ORGANIZATION: SINGLE FILE
BAND_CONTENT: BLACK&WHITE
BAND_CONTENT: UNDEFINED
BAND_CONTENT: UNDEFINED
BITS_PER_PIXEL: 8
SAMPLES_AND_LINES: 5390 7575
HORIZONTAL_DATUM: NAD83
HORIZONTAL_COORDINATE_SYSTEM: UTM
COORDINATE_ZONE: 12
HORIZONTAL_UNITS: METERS
HORIZONTAL_RESOLUTION: 1.00000
SECONDARY_HORIZONTAL_DATUM: NAD27
XY_ORIGIN: 466768.70400 5281960.29300
SECONDARY_XY_ORIGIN: 466828.03600 5281745.58700
NATION: US
STATE: MT
NW_QUAD_CORNER_XY: 467167.89400 5281660.79300
NE_QUAD_CORNER_XY: 471858.18800 5281636.20000
SE_QUAD_CORNERY_XY: 471824.58500 5274690.01600
SW_QUAD_CORNER_XY: 467128.69000 5274714.61400
SECONDARY_NW_QUAD_XY: 467166.86700 5281442.00000
SECONDARY_NE_QUAD_XY: 471857.30800 5281417.40700
SECONDARY_SE_QUAD_XY: 471823.70500 5274471.24200
SECONDARY_SW_QUAD_XY: 467127.66400 5274495.84100
RMSE_XY: 0.80000
IMAGE_SOURCE: BLACK AND WHITE FILM
SOURCE_IMAGE_ID: NAPP 8372 170
SOURCE_IMAGE_DATE: 1995 7 8
SOURCE_DEM_DATE: 1997 8 1
AGENCY: WESTERN MAPPING CENTER (WMC)
PRODUCER: Nies Mapping Group
PRODUCTION_SYSTEM: INTERGRAPH- ISPM,ISIR
COMPRESSION: UNDEFINED
STANDARD_VERSION: 1996 12
METADATA_DATE: 1997 12 28
DATA_FILE_SIZE: 40834640
BYTE_COUNT: 5390
