FILENAME: O4711118.NWS.727397.tif
QUADRANGLE_NAME: GREENFIELD
QUADRANT: NW
WEST_LONGITUDE: -111 52 30.00000
EAST_LONGITUDE: -111 48 45.00000
NORTH_LATITUDE: 47 45 0.00000
SOUTH_LATITUDE: 47 41 15.00000
PRODUCTION_DATE: 1997 8 5
RASTER_ORDER: LEFT_RIGHT/TOP_BOTTOM
BAND_ORGANIZATION: SINGLE FILE
BAND_CONTENT: BLACK&WHITE
BAND_CONTENT: UNDEFINED
BAND_CONTENT: UNDEFINED
BITS_PER_PIXEL: 8
SAMPLES_AND_LINES: 5425 7602
HORIZONTAL_DATUM: NAD83
HORIZONTAL_COORDINATE_SYSTEM: UTM
COORDINATE_ZONE: 12
HORIZONTAL_UNITS: METERS
HORIZONTAL_RESOLUTION: 1.00000
SECONDARY_HORIZONTAL_DATUM: NAD27
XY_ORIGIN: 433974.17500 5289184.58600
SECONDARY_XY_ORIGIN: 434034.48200 5288970.09300
NATION: US
STATE: MT
NW_QUAD_CORNER_XY: 434414.45300 5288885.08600
NE_QUAD_CORNER_XY: 439099.10400 5288834.01600
SE_QUAD_CORNERY_XY: 439026.22200 5281887.80800
SW_QUAD_CORNER_XY: 434335.96400 5281938.88800
SECONDARY_NW_QUAD_XY: 434412.40000 5288666.28300
SECONDARY_NE_QUAD_XY: 439097.19800 5288615.21200
SECONDARY_SE_QUAD_XY: 439024.31600 5281669.02200
SECONDARY_SW_QUAD_XY: 434333.91100 5281720.10400
RMSE_XY: 1.20000
IMAGE_SOURCE: BLACK AND WHITE FILM
SOURCE_IMAGE_ID: NAPP 8373 172
SOURCE_IMAGE_DATE: 1995 8 9
SOURCE_DEM_DATE: 1997 8 5
AGENCY: WESTERN MAPPING CENTER (WMC)
PRODUCER: Nies Mapping Group
PRODUCTION_SYSTEM: INTERGRAPH- ISPM,ISIR
COMPRESSION: UNDEFINED
STANDARD_VERSION: 1996 12
METADATA_DATE: 1997 12 30
DATA_FILE_SIZE: 41246275
BYTE_COUNT: 5425
