FILENAME: O4711118.SES.727398.tif
QUADRANGLE_NAME: GREENFIELD
QUADRANT: SE
WEST_LONGITUDE: -111 48 45.00000
EAST_LONGITUDE: -111 45 0.00000
NORTH_LATITUDE: 47 41 15.00000
SOUTH_LATITUDE: 47 37 30.00000
PRODUCTION_DATE: 1997 8 5
RASTER_ORDER: LEFT_RIGHT/TOP_BOTTOM
BAND_ORGANIZATION: SINGLE FILE
BAND_CONTENT: BLACK&WHITE
BAND_CONTENT: UNDEFINED
BAND_CONTENT: UNDEFINED
BITS_PER_PIXEL: 8
SAMPLES_AND_LINES: 5425 7598
HORIZONTAL_DATUM: NAD83
HORIZONTAL_COORDINATE_SYSTEM: UTM
COORDINATE_ZONE: 12
HORIZONTAL_UNITS: METERS
HORIZONTAL_RESOLUTION: 1.00000
SECONDARY_HORIZONTAL_DATUM: NAD27
XY_ORIGIN: 438591.98600 5282187.30800
SECONDARY_XY_ORIGIN: 438652.05000 5281972.89400
NATION: US
STATE: MT
NW_QUAD_CORNER_XY: 439026.22200 5281887.80800
NE_QUAD_CORNER_XY: 443716.48700 5281840.51200
SE_QUAD_CORNERY_XY: 443649.27900 5274894.36900
SW_QUAD_CORNER_XY: 438953.41300 5274941.67400
SECONDARY_NW_QUAD_XY: 439024.31600 5281669.02200
SECONDARY_NE_QUAD_XY: 443714.72700 5281621.72500
SECONDARY_SE_QUAD_XY: 443647.51900 5274675.60200
SECONDARY_SW_QUAD_XY: 438951.50700 5274722.90800
RMSE_XY: 1.10000
IMAGE_SOURCE: BLACK AND WHITE FILM
SOURCE_IMAGE_ID: NAPP 8373 193
SOURCE_IMAGE_DATE: 1995 8 9
SOURCE_DEM_DATE: 1997 8 5
AGENCY: WESTERN MAPPING CENTER (WMC)
PRODUCER: Nies Mapping Group
PRODUCTION_SYSTEM: INTERGRAPH- ISPM,ISIR
COMPRESSION: UNDEFINED
STANDARD_VERSION: 1996 12
METADATA_DATE: 1997 12 30
DATA_FILE_SIZE: 41224575
BYTE_COUNT: 5425
