FILENAME: O4711114.NWS.727325.tif
QUADRANGLE_NAME: SHEEP COULEE SPRINGS
QUADRANT: NW
WEST_LONGITUDE: -111 22 30.00000
EAST_LONGITUDE: -111 18 45.00000
NORTH_LATITUDE: 47 52 30.00000
SOUTH_LATITUDE: 47 48 45.00000
PRODUCTION_DATE: 1997 8 2
RASTER_ORDER: LEFT_RIGHT/TOP_BOTTOM
BAND_ORGANIZATION: SINGLE FILE
BAND_CONTENT: BLACK&WHITE
BAND_CONTENT: UNDEFINED
BAND_CONTENT: UNDEFINED
BITS_PER_PIXEL: 8
SAMPLES_AND_LINES: 5367 7571
HORIZONTAL_DATUM: NAD83
HORIZONTAL_COORDINATE_SYSTEM: UTM
COORDINATE_ZONE: 12
HORIZONTAL_UNITS: METERS
HORIZONTAL_RESOLUTION: 1.00000
SECONDARY_HORIZONTAL_DATUM: NAD27
XY_ORIGIN: 471565.78100 5302774.70600
SECONDARY_XY_ORIGIN: 471625.29000 5302559.63900
NATION: US
STATE: MT
NW_QUAD_CORNER_XY: 471959.19800 5302475.20600
NE_QUAD_CORNER_XY: 476632.66000 5302454.41000
SE_QUAD_CORNERY_XY: 476604.57400 5295507.99400
SW_QUAD_CORNER_XY: 471925.49400 5295528.79500
SECONDARY_NW_QUAD_XY: 471958.31800 5302256.35900
SECONDARY_NE_QUAD_XY: 476631.92700 5302235.56200
SECONDARY_SE_QUAD_XY: 476603.84000 5295289.16400
SECONDARY_SW_QUAD_XY: 471924.61400 5295309.96500
RMSE_XY: 1.10000
IMAGE_SOURCE: BLACK AND WHITE FILM
SOURCE_IMAGE_ID: NAPP 8372 137
SOURCE_IMAGE_DATE: 1995 7 8
SOURCE_DEM_DATE: 1997 8 2
AGENCY: WESTERN MAPPING CENTER (WMC)
PRODUCER: Nies Mapping Group
PRODUCTION_SYSTEM: INTERGRAPH- ISPM,ISIR
COMPRESSION: UNDEFINED
STANDARD_VERSION: 1996 12
METADATA_DATE: 1997 12 28
DATA_FILE_SIZE: 40638924
BYTE_COUNT: 5367
