FILENAME: O4711109.SWS.727423.tif
QUADRANGLE_NAME: T L GAP
QUADRANT: SW
WEST_LONGITUDE: -112 0 0.00000
EAST_LONGITUDE: -111 56 15.00000
NORTH_LATITUDE: 47 48 45.00000
SOUTH_LATITUDE: 47 45 0.00000
PRODUCTION_DATE: 1997 8 11
RASTER_ORDER: LEFT_RIGHT/TOP_BOTTOM
BAND_ORGANIZATION: SINGLE FILE
BAND_CONTENT: BLACK&WHITE
BAND_CONTENT: UNDEFINED
BAND_CONTENT: UNDEFINED
BITS_PER_PIXEL: 8
SAMPLES_AND_LINES: 5432 7609
HORIZONTAL_DATUM: NAD83
HORIZONTAL_COORDINATE_SYSTEM: UTM
COORDINATE_ZONE: 12
HORIZONTAL_UNITS: METERS
HORIZONTAL_RESOLUTION: 1.00000
SECONDARY_HORIZONTAL_DATUM: NAD27
XY_ORIGIN: 424682.62300 5296244.32300
SECONDARY_XY_ORIGIN: 424743.42900 5296029.69900
NATION: US
STATE: MT
NW_QUAD_CORNER_XY: 425134.96800 5295944.82300
NE_QUAD_CORNER_XY: 429813.99000 5295886.19900
SE_QUAD_CORNERY_XY: 429729.81000 5288939.93800
SW_QUAD_CORNER_XY: 425045.17400 5288998.57500
SECONDARY_NW_QUAD_XY: 425132.62100 5295726.00600
SECONDARY_NE_QUAD_XY: 429811.79000 5295667.38000
SECONDARY_SE_QUAD_XY: 429727.61000 5288721.13700
SECONDARY_SW_QUAD_XY: 425042.82700 5288779.77500
RMSE_XY: 0.70000
IMAGE_SOURCE: BLACK AND WHITE FILM
SOURCE_IMAGE_ID: NAPP 8373 265
SOURCE_IMAGE_DATE: 1995 8 9
SOURCE_DEM_DATE: 1997 8 11
AGENCY: WESTERN MAPPING CENTER (WMC)
PRODUCER: Nies Mapping Group
PRODUCTION_SYSTEM: INTERGRAPH- ISPM,ISIR
COMPRESSION: UNDEFINED
STANDARD_VERSION: 1996 12
METADATA_DATE: 1997 12 30
DATA_FILE_SIZE: 41337520
BYTE_COUNT: 5432
