FILENAME: O4711102.NWS.1078124.tif
QUADRANGLE_NAME: COLLINS
QUADRANT: NW
WEST_LONGITUDE: -111 52 30.00000
EAST_LONGITUDE: -111 48 45.00000
NORTH_LATITUDE: 48 0 0.00000
SOUTH_LATITUDE: 47 56 15.00000
PRODUCTION_DATE: 2000 5 3
RASTER_ORDER: LEFT_RIGHT/TOP_BOTTOM
BAND_ORGANIZATION: SINGLE FILE
BAND_CONTENT: BLACK&WHITE
BAND_CONTENT: UNDEFINED
BAND_CONTENT: UNDEFINED
BITS_PER_PIXEL: 8
SAMPLES_AND_LINES: 5407 7604
HORIZONTAL_DATUM: NAD83
HORIZONTAL_COORDINATE_SYSTEM: UTM
COORDINATE_ZONE: 12
HORIZONTAL_UNITS: METERS
HORIZONTAL_RESOLUTION: 1.00000
SECONDARY_HORIZONTAL_DATUM: NAD27
XY_ORIGIN: 434286.00000 5316971.00000
SECONDARY_XY_ORIGIN: 434346.83100 5316755.74000
NATION: US
NATION: "SCIENCE
STATE: MT
NW_QUAD_CORNER_XY: 434729.19600 5316670.61800
NE_QUAD_CORNER_XY: 439391.36300 5316619.59300
SE_QUAD_CORNERY_XY: 439318.18900 5309673.08700
SW_QUAD_CORNER_XY: 434650.39300 5309724.12300
SECONDARY_NW_QUAD_XY: 434727.14200 5316451.74900
SECONDARY_NE_QUAD_XY: 439389.45600 5316400.72200
SECONDARY_SE_QUAD_XY: 439316.28200 5309454.23100
SECONDARY_SW_QUAD_XY: 434648.33900 5309505.27000
RMSE_XY: 0.60000
IMAGE_SOURCE: BLACK AND WHITE FILM
SOURCE_IMAGE_ID: NAPP 8373 164
SOURCE_IMAGE_DATE: 1995 08 09
SOURCE_IMAGE_ID: NAPP 8373 166
SOURCE_IMAGE_DATE: 1995 08 09
SOURCE_IMAGE_ID: NAPP 8373 165
SOURCE_IMAGE_DATE: 1995 08 09
SOURCE_IMAGE_ID: NAPP 8373 215
SOURCE_IMAGE_DATE: 1995 08 09
SOURCE_DEM_DATE: 1987 00 00
AGENCY: WESTERN MAPPING CENTER (WMC)
PRODUCER: UNDEFINED
PRODUCTION_SYSTEM: GIS/MAGIC
COMPRESSION: UNDEFINED
STANDARD_VERSION: 1996 12
METADATA_DATE: 2000 06 02
DATA_FILE_SIZE: 41120235
BYTE_COUNT: 5407
