FILENAME: O4711101.NES.1078119.tif
QUADRANGLE_NAME: COLLINS NW
QUADRANT: NE
WEST_LONGITUDE: -111 56 15.00000
EAST_LONGITUDE: -111 52 30.00000
NORTH_LATITUDE: 48 0 0.00000
SOUTH_LATITUDE: 47 56 15.00000
PRODUCTION_DATE: 2000 5 3
RASTER_ORDER: LEFT_RIGHT/TOP_BOTTOM
BAND_ORGANIZATION: SINGLE FILE
BAND_CONTENT: BLACK&WHITE
BAND_CONTENT: UNDEFINED
BAND_CONTENT: UNDEFINED
BITS_PER_PIXEL: 8
SAMPLES_AND_LINES: 5413 7608
HORIZONTAL_DATUM: NAD83
HORIZONTAL_COORDINATE_SYSTEM: UTM
COORDINATE_ZONE: 12
HORIZONTAL_UNITS: METERS
HORIZONTAL_RESOLUTION: 1.00000
SECONDARY_HORIZONTAL_DATUM: NAD27
XY_ORIGIN: 429618.00000 5317026.00000
SECONDARY_XY_ORIGIN: 429678.95500 5316810.71000
NATION: US
NATION: "SCIENCE
STATE: MT
NW_QUAD_CORNER_XY: 430067.03800 5316725.42300
NE_QUAD_CORNER_XY: 434729.19600 5316670.61800
SE_QUAD_CORNERY_XY: 434650.39300 5309724.12300
SW_QUAD_CORNER_XY: 429982.60500 5309778.94100
SECONDARY_NW_QUAD_XY: 430064.83700 5316506.55600
SECONDARY_NE_QUAD_XY: 434727.14200 5316451.74900
SECONDARY_SE_QUAD_XY: 434648.33900 5309505.27000
SECONDARY_SW_QUAD_XY: 429980.40400 5309560.08900
RMSE_XY: 0.90000
IMAGE_SOURCE: BLACK AND WHITE FILM
SOURCE_IMAGE_ID: NAPP 8373 219
SOURCE_IMAGE_DATE: 1995 08 09
SOURCE_IMAGE_ID: NAPP 8373 220
SOURCE_IMAGE_DATE: 1995 08 09
SOURCE_IMAGE_ID: NAPP 8373 218
SOURCE_IMAGE_DATE: 1995 08 09
SOURCE_DEM_DATE: 1987 00 00
AGENCY: WESTERN MAPPING CENTER (WMC)
PRODUCER: UNDEFINED
PRODUCTION_SYSTEM: GIS/MAGIC
COMPRESSION: UNDEFINED
STANDARD_VERSION: 1996 12
METADATA_DATE: 2000 06 02
DATA_FILE_SIZE: 41187517
BYTE_COUNT: 5413
