FILENAME: O4711262.SWS.965081.tif
QUADRANGLE_NAME: ROGERS PASS
QUADRANT: SW
WEST_LONGITUDE: -112 22 30.00000
EAST_LONGITUDE: -112 18 45.00000
NORTH_LATITUDE: 47 3 45.00000
SOUTH_LATITUDE: 47 0 0.00000
PRODUCTION_DATE: 1998 12 28
RASTER_ORDER: LEFT_RIGHT/TOP_BOTTOM
BAND_ORGANIZATION: SINGLE FILE
BAND_CONTENT: BLACK&WHITE
BAND_CONTENT: UNDEFINED
BAND_CONTENT: UNDEFINED
BITS_PER_PIXEL: 8
SAMPLES_AND_LINES: 5550 7650
HORIZONTAL_DATUM: NAD83
HORIZONTAL_COORDINATE_SYSTEM: UTM
COORDINATE_ZONE: 12
HORIZONTAL_UNITS: METERS
HORIZONTAL_RESOLUTION: 1.00000
SECONDARY_HORIZONTAL_DATUM: NAD27
XY_ORIGIN: 395100.00000 5213340.00000
SECONDARY_XY_ORIGIN: 395161.84400 5213126.63000
NATION: US
STATE: MT
NW_QUAD_CORNER_XY: 395587.50300 5213026.84700
NE_QUAD_CORNER_XY: 400333.46600 5212945.34500
SE_QUAD_CORNERY_XY: 400217.02800 5206000.03500
SW_QUAD_CORNER_XY: 395465.51900 5206081.55000
SECONDARY_NW_QUAD_XY: 395584.28100 5212808.31300
SECONDARY_NE_QUAD_XY: 400330.39000 5212726.80800
SECONDARY_SE_QUAD_XY: 400213.95300 5205781.52700
SECONDARY_SW_QUAD_XY: 395462.29800 5205863.04400
RMSE_XY: 3.35000
IMAGE_SOURCE: BLACK AND WHITE FILM
SOURCE_IMAGE_ID: NAPP 9486 81
SOURCE_IMAGE_DATE: 1995 08 20
SOURCE_IMAGE_ID: NAPP 9486 223
SOURCE_IMAGE_DATE: 1995 08 20
SOURCE_IMAGE_ID: NAPP 9486 83
SOURCE_IMAGE_DATE: 1995 08 20
SOURCE_IMAGE_ID: NAPP 9486 79
SOURCE_IMAGE_DATE: 1995 08 20
SOURCE_DEM_DATE: 1998 01 01
AGENCY: WESTERN MAPPING CENTER (WMC)
PRODUCER: ANALYTICAL SURVEYS INC.
PRODUCTION_SYSTEM: ORBIT OR_RECTIFY V.5.2
COMPRESSION: UNDEFINED
STANDARD_VERSION: 1996 12
METADATA_DATE: 1998 12 30
DATA_FILE_SIZE: 42463050
BYTE_COUNT: 5550
