FILENAME: O4711257.NES.1078919.tif
QUADRANGLE_NAME: COOPERS LAKE
QUADRANT: NE
WEST_LONGITUDE: -112 56 15.00000
EAST_LONGITUDE: -112 52 30.00000
NORTH_LATITUDE: 47 7 30.00000
SOUTH_LATITUDE: 47 3 45.00000
PRODUCTION_DATE: 2000 4 27
RASTER_ORDER: LEFT_RIGHT/TOP_BOTTOM
BAND_ORGANIZATION: SINGLE FILE
BAND_CONTENT: BLACK&WHITE
BAND_CONTENT: UNDEFINED
BAND_CONTENT: UNDEFINED
BITS_PER_PIXEL: 8
SAMPLES_AND_LINES: 5582 7669
HORIZONTAL_DATUM: NAD83
HORIZONTAL_COORDINATE_SYSTEM: UTM
COORDINATE_ZONE: 12
HORIZONTAL_UNITS: METERS
HORIZONTAL_RESOLUTION: 1.00000
SECONDARY_HORIZONTAL_DATUM: NAD27
XY_ORIGIN: 352506.00000 5221177.00000
SECONDARY_XY_ORIGIN: 352568.55400 5220963.34700
NATION: US
NATION: "SCIENCE
STATE: MT
NW_QUAD_CORNER_XY: 353046.37700 5220876.26300
NE_QUAD_CORNER_XY: 357786.69100 5220760.64200
SE_QUAD_CORNERY_XY: 357620.15400 5213815.39700
SW_QUAD_CORNER_XY: 352874.28500 5213931.03600
SECONDARY_NW_QUAD_XY: 353041.83600 5220657.72900
SECONDARY_NE_QUAD_XY: 357782.29600 5220542.10500
SECONDARY_SE_QUAD_XY: 357615.76000 5213596.88700
SECONDARY_SW_QUAD_XY: 352869.74400 5213712.52900
RMSE_XY: 3.10000
IMAGE_SOURCE: BLACK AND WHITE FILM
SOURCE_IMAGE_ID: NAPP 9489 047
SOURCE_IMAGE_DATE: 1995 08 28
SOURCE_IMAGE_ID: NAPP 9489 019
SOURCE_IMAGE_DATE: 1995 08 28
SOURCE_IMAGE_ID: NAPP 9489 048
SOURCE_IMAGE_DATE: 1995 08 28
SOURCE_IMAGE_ID: NAPP 9489 046
SOURCE_IMAGE_DATE: 1995 08 28
SOURCE_DEM_DATE: 1998 00 00
AGENCY: WESTERN MAPPING CENTER (WMC)
PRODUCER: UNDEFINED
PRODUCTION_SYSTEM: GIS/MAGIC
COMPRESSION: UNDEFINED
STANDARD_VERSION: 1996 12
METADATA_DATE: 2000 05 27
DATA_FILE_SIZE: 42813940
BYTE_COUNT: 5582
