FILENAME: O4711253.SES.965182.tif
QUADRANGLE_NAME: BLOWOUT MOUNTAIN
QUADRANT: SE
WEST_LONGITUDE: -112 26 15.00000
EAST_LONGITUDE: -112 22 30.00000
NORTH_LATITUDE: 47 11 15.00000
SOUTH_LATITUDE: 47 7 30.00000
PRODUCTION_DATE: 1998 12 23
RASTER_ORDER: LEFT_RIGHT/TOP_BOTTOM
BAND_ORGANIZATION: SINGLE FILE
BAND_CONTENT: BLACK&WHITE
BAND_CONTENT: UNDEFINED
BAND_CONTENT: UNDEFINED
BITS_PER_PIXEL: 8
SAMPLES_AND_LINES: 5550 7680
HORIZONTAL_DATUM: NAD83
HORIZONTAL_COORDINATE_SYSTEM: UTM
COORDINATE_ZONE: 12
HORIZONTAL_UNITS: METERS
HORIZONTAL_RESOLUTION: 1.00000
SECONDARY_HORIZONTAL_DATUM: NAD27
XY_ORIGIN: 390600.00000 5227320.00000
SECONDARY_XY_ORIGIN: 390661.78600 5227106.41700
NATION: US
STATE: MT
NW_QUAD_CORNER_XY: 391097.00300 5227002.92400
NE_QUAD_CORNER_XY: 395831.84700 5226917.65700
SE_QUAD_CORNERY_XY: 395709.61200 5219972.21600
SW_QUAD_CORNER_XY: 390969.21100 5220057.49700
SECONDARY_NW_QUAD_XY: 391093.63400 5226784.33900
SECONDARY_NE_QUAD_XY: 395828.62300 5226699.07000
SECONDARY_SE_QUAD_XY: 395706.39000 5219753.65500
SECONDARY_SW_QUAD_XY: 390965.84200 5219838.93800
RMSE_XY: 2.00000
IMAGE_SOURCE: BLACK AND WHITE FILM
SOURCE_IMAGE_ID: NAPP 9486 66
SOURCE_IMAGE_DATE: 1995 08 20
SOURCE_IMAGE_ID: NAPP 9486 68
SOURCE_IMAGE_DATE: 1995 08 20
SOURCE_IMAGE_ID: NAPP 9486 64
SOURCE_IMAGE_DATE: 1995 08 20
SOURCE_DEM_DATE: 1993 00 00
AGENCY: WESTERN MAPPING CENTER (WMC)
PRODUCER: ANALYTICAL SURVEYS INC.
PRODUCTION_SYSTEM: ORBIT OR_RECTIFY V.5.2
COMPRESSION: UNDEFINED
STANDARD_VERSION: 1996 12
METADATA_DATE: 1999 02 03
DATA_FILE_SIZE: 42629550
BYTE_COUNT: 5550
