FILENAME: O4711245.NES.965176.tif
QUADRANGLE_NAME: BEAN LAKE
QUADRANT: NE
WEST_LONGITUDE: -112 26 15.00000
EAST_LONGITUDE: -112 22 30.00000
NORTH_LATITUDE: 47 22 30.00000
SOUTH_LATITUDE: 47 18 45.00000
PRODUCTION_DATE: 1998 12 23
RASTER_ORDER: LEFT_RIGHT/TOP_BOTTOM
BAND_ORGANIZATION: SINGLE FILE
BAND_CONTENT: BLACK&WHITE
BAND_CONTENT: UNDEFINED
BAND_CONTENT: UNDEFINED
BITS_PER_PIXEL: 8
SAMPLES_AND_LINES: 5550 7650
HORIZONTAL_DATUM: NAD83
HORIZONTAL_COORDINATE_SYSTEM: UTM
COORDINATE_ZONE: 12
HORIZONTAL_UNITS: METERS
HORIZONTAL_RESOLUTION: 1.00000
SECONDARY_HORIZONTAL_DATUM: NAD27
XY_ORIGIN: 390960.00000 5248140.00000
SECONDARY_XY_ORIGIN: 391021.56700 5247926.15900
NATION: US
STATE: MT
NW_QUAD_CORNER_XY: 391481.16300 5247839.63400
NE_QUAD_CORNER_XY: 396199.29800 5247754.41000
SE_QUAD_CORNERY_XY: 396076.68900 5240808.75400
SW_QUAD_CORNER_XY: 391352.97900 5240893.99300
SECONDARY_NW_QUAD_XY: 391477.79200 5247620.97500
SECONDARY_NE_QUAD_XY: 396196.07300 5247535.74900
SECONDARY_SE_QUAD_XY: 396073.46500 5240590.11700
SECONDARY_SW_QUAD_XY: 391349.60900 5240675.35800
RMSE_XY: 3.07000
IMAGE_SOURCE: BLACK AND WHITE FILM
SOURCE_IMAGE_ID: NAPP 9486 72
SOURCE_IMAGE_DATE: 1995 08 20
SOURCE_DEM_DATE: 1998 01 01
AGENCY: WESTERN MAPPING CENTER (WMC)
PRODUCER: ANALYTICAL SURVEYS INC.
PRODUCTION_SYSTEM: ORBIT OR_RECTIFY V.5.2
COMPRESSION: UNDEFINED
STANDARD_VERSION: 1996 12
METADATA_DATE: 1999 02 03
DATA_FILE_SIZE: 42463050
BYTE_COUNT: 5550
