FILENAME: O4711243.NES.965152.tif
QUADRANGLE_NAME: JAKIE CREEK
QUADRANT: NE
WEST_LONGITUDE: -112 41 15.00000
EAST_LONGITUDE: -112 37 30.00000
NORTH_LATITUDE: 47 22 30.00000
SOUTH_LATITUDE: 47 18 45.00000
PRODUCTION_DATE: 1998 12 22
RASTER_ORDER: LEFT_RIGHT/TOP_BOTTOM
BAND_ORGANIZATION: SINGLE FILE
BAND_CONTENT: BLACK&WHITE
BAND_CONTENT: UNDEFINED
BAND_CONTENT: UNDEFINED
BITS_PER_PIXEL: 8
SAMPLES_AND_LINES: 5550 7680
HORIZONTAL_DATUM: NAD83
HORIZONTAL_COORDINATE_SYSTEM: UTM
COORDINATE_ZONE: 12
HORIZONTAL_UNITS: METERS
HORIZONTAL_RESOLUTION: 1.00000
SECONDARY_HORIZONTAL_DATUM: NAD27
XY_ORIGIN: 372090.00000 5248530.00000
SECONDARY_XY_ORIGIN: 372151.94200 5248316.15600
NATION: US
STATE: MT
NW_QUAD_CORNER_XY: 372608.73400 5248218.42000
NE_QUAD_CORNER_XY: 377326.82400 5248118.03900
SE_QUAD_CORNERY_XY: 377181.91300 5241172.44700
SW_QUAD_CORNER_XY: 372458.24700 5241272.84600
SECONDARY_NW_QUAD_XY: 372604.77700 5247999.77400
SECONDARY_NE_QUAD_XY: 377323.01300 5247899.38900
SECONDARY_SE_QUAD_XY: 377178.10300 5240953.82100
SECONDARY_SW_QUAD_XY: 372454.29000 5241054.22300
RMSE_XY: 2.66000
IMAGE_SOURCE: BLACK AND WHITE FILM
SOURCE_IMAGE_ID: NAPP 8386 76
SOURCE_IMAGE_DATE: 1995 08 05
SOURCE_IMAGE_ID: NAPP 8386 77
SOURCE_IMAGE_DATE: 1995 08 05
SOURCE_IMAGE_ID: NAPP 8386 125
SOURCE_IMAGE_DATE: 1995 08 05
SOURCE_IMAGE_ID: NAPP 8386 74
SOURCE_IMAGE_DATE: 1995 08 05
SOURCE_DEM_DATE: 1969 00 00
AGENCY: WESTERN MAPPING CENTER (WMC)
PRODUCER: ANALYTICAL SURVEYS INC.
PRODUCTION_SYSTEM: ORBIT OR_RECTIFY V.5.2
COMPRESSION: UNDEFINED
STANDARD_VERSION: 1996 12
METADATA_DATE: 1999 02 03
DATA_FILE_SIZE: 42629550
BYTE_COUNT: 5550
