FILENAME: O4711243.SWS.965155.tif
QUADRANGLE_NAME: JAKIE CREEK
QUADRANT: SW
WEST_LONGITUDE: -112 45 0.00000
EAST_LONGITUDE: -112 41 15.00000
NORTH_LATITUDE: 47 18 45.00000
SOUTH_LATITUDE: 47 15 0.00000
PRODUCTION_DATE: 1998 12 22
RASTER_ORDER: LEFT_RIGHT/TOP_BOTTOM
BAND_ORGANIZATION: SINGLE FILE
BAND_CONTENT: BLACK&WHITE
BAND_CONTENT: UNDEFINED
BAND_CONTENT: UNDEFINED
BITS_PER_PIXEL: 8
SAMPLES_AND_LINES: 5580 7680
HORIZONTAL_DATUM: NAD83
HORIZONTAL_COORDINATE_SYSTEM: UTM
COORDINATE_ZONE: 12
HORIZONTAL_UNITS: METERS
HORIZONTAL_RESOLUTION: 1.00000
SECONDARY_HORIZONTAL_DATUM: NAD27
XY_ORIGIN: 367200.00000 5241690.00000
SECONDARY_XY_ORIGIN: 367262.12000 5241476.21200
NATION: US
STATE: MT
NW_QUAD_CORNER_XY: 367734.59300 5241377.03500
NE_QUAD_CORNER_XY: 372458.24700 5241272.84600
SE_QUAD_CORNERY_XY: 372307.91300 5234327.34100
SW_QUAD_CORNER_XY: 367578.68900 5234431.54800
SECONDARY_NW_QUAD_XY: 367730.49000 5241158.41500
SECONDARY_NE_QUAD_XY: 372454.29000 5241054.22300
SECONDARY_SE_QUAD_XY: 372303.95700 5234108.74200
SECONDARY_SW_QUAD_XY: 367574.58600 5234212.95300
RMSE_XY: 3.16000
IMAGE_SOURCE: BLACK AND WHITE FILM
SOURCE_IMAGE_ID: NAPP 8386 127
SOURCE_IMAGE_DATE: 1995 08 05
SOURCE_IMAGE_ID: NAPP 8386 129
SOURCE_IMAGE_DATE: 1995 08 05
SOURCE_IMAGE_ID: NAPP 8386 74
SOURCE_IMAGE_DATE: 1995 08 05
SOURCE_DEM_DATE: 1969 00 00
AGENCY: WESTERN MAPPING CENTER (WMC)
PRODUCER: ANALYTICAL SURVEYS INC.
PRODUCTION_SYSTEM: ORBIT OR_RECTIFY V.5.2
COMPRESSION: UNDEFINED
STANDARD_VERSION: 1996 12
METADATA_DATE: 1999 02 03
DATA_FILE_SIZE: 42859980
BYTE_COUNT: 5580
