FILENAME: O4711237.NES.950480.tif
QUADRANGLE_NAME: AUGUSTA
QUADRANT: NE
WEST_LONGITUDE: -112 26 15.00000
EAST_LONGITUDE: -112 22 30.00000
NORTH_LATITUDE: 47 30 0.00000
SOUTH_LATITUDE: 47 26 15.00000
PRODUCTION_DATE: 1998 12 18
RASTER_ORDER: LEFT_RIGHT/TOP_BOTTOM
BAND_ORGANIZATION: SINGLE FILE
BAND_CONTENT: BLACK&WHITE
BAND_CONTENT: UNDEFINED
BAND_CONTENT: UNDEFINED
BITS_PER_PIXEL: 8
SAMPLES_AND_LINES: 5520 7680
HORIZONTAL_DATUM: NAD83
HORIZONTAL_COORDINATE_SYSTEM: UTM
COORDINATE_ZONE: 12
HORIZONTAL_UNITS: METERS
HORIZONTAL_RESOLUTION: 1.00000
SECONDARY_HORIZONTAL_DATUM: NAD27
XY_ORIGIN: 391230.00000 5262060.00000
SECONDARY_XY_ORIGIN: 391291.45500 5261845.98100
NATION: US
STATE: MT
NW_QUAD_CORNER_XY: 391737.92000 5261731.13000
NE_QUAD_CORNER_XY: 396444.88700 5261645.93800
SE_QUAD_CORNERY_XY: 396322.03000 5254700.13800
SW_QUAD_CORNER_XY: 391609.47600 5254785.34600
SECONDARY_NW_QUAD_XY: 391734.54800 5261512.42600
SECONDARY_NE_QUAD_XY: 396441.66200 5261427.23200
SECONDARY_SE_QUAD_XY: 396318.80500 5254481.45400
SECONDARY_SW_QUAD_XY: 391606.10500 5254566.66500
RMSE_XY: 2.34000
IMAGE_SOURCE: BLACK AND WHITE FILM
SOURCE_IMAGE_ID: NAPP 8384 35
SOURCE_IMAGE_DATE: 1995 08 04
SOURCE_IMAGE_ID: NAPP 8381 109
SOURCE_IMAGE_DATE: 1995 07 28
SOURCE_IMAGE_ID: NAPP 8384 33
SOURCE_IMAGE_DATE: 1995 08 04
SOURCE_DEM_DATE: 1998 01 01
AGENCY: WESTERN MAPPING CENTER (WMC)
PRODUCER: ANALYTICAL SURVEYS INC.
PRODUCTION_SYSTEM: ORBIT OR_RECTIFY V.5.2
COMPRESSION: UNDEFINED
STANDARD_VERSION: 1996 12
METADATA_DATE: 1998 12 29
DATA_FILE_SIZE: 42399120
BYTE_COUNT: 5520
