FILENAME: O4711236.SES.950451.tif
QUADRANGLE_NAME: NILAN RESERVOIR
QUADRANT: SE
WEST_LONGITUDE: -112 33 45.00000
EAST_LONGITUDE: -112 30 0.00000
NORTH_LATITUDE: 47 26 15.00000
SOUTH_LATITUDE: 47 22 30.00000
PRODUCTION_DATE: 1998 12 17
RASTER_ORDER: LEFT_RIGHT/TOP_BOTTOM
BAND_ORGANIZATION: SINGLE FILE
BAND_CONTENT: BLACK&WHITE
BAND_CONTENT: UNDEFINED
BAND_CONTENT: UNDEFINED
BITS_PER_PIXEL: 8
SAMPLES_AND_LINES: 5550 7680
HORIZONTAL_DATUM: NAD83
HORIZONTAL_COORDINATE_SYSTEM: UTM
COORDINATE_ZONE: 12
HORIZONTAL_UNITS: METERS
HORIZONTAL_RESOLUTION: 1.00000
SECONDARY_HORIZONTAL_DATUM: NAD27
XY_ORIGIN: 381660.00000 5255280.00000
SECONDARY_XY_ORIGIN: 381721.69200 5255066.07800
NATION: US
STATE: MT
NW_QUAD_CORNER_XY: 382184.40100 5254967.12800
NE_QUAD_CORNER_XY: 386896.93300 5254874.34300
SE_QUAD_CORNERY_XY: 386763.03900 5247928.64600
SW_QUAD_CORNER_XY: 382044.92500 5248021.44800
SECONDARY_NW_QUAD_XY: 382180.73700 5254748.45200
SECONDARY_NE_QUAD_XY: 386893.41500 5254655.66400
SECONDARY_SE_QUAD_XY: 386759.52100 5247709.99000
SECONDARY_SW_QUAD_XY: 382041.26100 5247802.79500
RMSE_XY: 3.14000
IMAGE_SOURCE: BLACK AND WHITE FILM
SOURCE_IMAGE_ID: NAPP 9486 157
SOURCE_IMAGE_DATE: 1995 08 20
SOURCE_DEM_DATE: 1998 01 01
AGENCY: WESTERN MAPPING CENTER (WMC)
PRODUCER: ANALYTICAL SURVEYS INC.
PRODUCTION_SYSTEM: ORBIT OR_RECTIFY V.5.2
COMPRESSION: UNDEFINED
STANDARD_VERSION: 1996 12
METADATA_DATE: 1998 12 18
DATA_FILE_SIZE: 42629550
BYTE_COUNT: 5550
