FILENAME: O4711233.SWS.958271.tif
QUADRANGLE_NAME: BENCHMARK
QUADRANT: SW
WEST_LONGITUDE: -113 0 0.00000
EAST_LONGITUDE: -112 56 15.00000
NORTH_LATITUDE: 47 26 15.00000
SOUTH_LATITUDE: 47 22 30.00000
PRODUCTION_DATE: 1998 12 11
RASTER_ORDER: LEFT_RIGHT/TOP_BOTTOM
BAND_ORGANIZATION: SINGLE FILE
BAND_CONTENT: BLACK&WHITE
BAND_CONTENT: UNDEFINED
BAND_CONTENT: UNDEFINED
BITS_PER_PIXEL: 8
SAMPLES_AND_LINES: 5580 7680
HORIZONTAL_DATUM: NAD83
HORIZONTAL_COORDINATE_SYSTEM: UTM
COORDINATE_ZONE: 12
HORIZONTAL_UNITS: METERS
HORIZONTAL_RESOLUTION: 1.00000
SECONDARY_HORIZONTAL_DATUM: NAD27
XY_ORIGIN: 348630.00000 5256030.00000
SECONDARY_XY_ORIGIN: 348692.14200 5255816.03200
NATION: US
STATE: MT
NW_QUAD_CORNER_XY: 349197.03500 5255722.72200
NE_QUAD_CORNER_XY: 353909.47400 5255603.41100
SE_QUAD_CORNERY_XY: 353736.50400 5248657.84600
SW_QUAD_CORNER_XY: 349018.48100 5248777.17900
SECONDARY_NW_QUAD_XY: 349192.34400 5255504.07000
SECONDARY_NE_QUAD_XY: 353904.93000 5255384.75500
SECONDARY_SE_QUAD_XY: 353731.96000 5248439.21300
SECONDARY_SW_QUAD_XY: 349013.79000 5248558.55000
RMSE_XY: 3.90800
IMAGE_SOURCE: BLACK AND WHITE FILM
SOURCE_IMAGE_ID: NAPP 9489 30
SOURCE_IMAGE_DATE: 1995 08 28
SOURCE_DEM_DATE: 1988 00 00
AGENCY: WESTERN MAPPING CENTER (WMC)
PRODUCER: ANALYTICAL SURVEYS INC.
PRODUCTION_SYSTEM: ORBIT OR_RECTIFY V.5.2
COMPRESSION: UNDEFINED
STANDARD_VERSION: 1996 12
METADATA_DATE: 1998 12 16
DATA_FILE_SIZE: 42859980
BYTE_COUNT: 5580
