FILENAME: O4711231.NES.727496.tif
QUADRANGLE_NAME: GOLDEN RIDGE
QUADRANT: NE
WEST_LONGITUDE: -112 11 15.00000
EAST_LONGITUDE: -112 7 30.00000
NORTH_LATITUDE: 47 37 30.00000
SOUTH_LATITUDE: 47 33 45.00000
PRODUCTION_DATE: 1997 8 11
RASTER_ORDER: LEFT_RIGHT/TOP_BOTTOM
BAND_ORGANIZATION: SINGLE FILE
BAND_CONTENT: BLACK&WHITE
BAND_CONTENT: UNDEFINED
BAND_CONTENT: UNDEFINED
BITS_PER_PIXEL: 8
SAMPLES_AND_LINES: 5466 7621
HORIZONTAL_DATUM: NAD83
HORIZONTAL_COORDINATE_SYSTEM: UTM
COORDINATE_ZONE: 12
HORIZONTAL_UNITS: METERS
HORIZONTAL_RESOLUTION: 1.00000
SECONDARY_HORIZONTAL_DATUM: NAD27
XY_ORIGIN: 410308.77900 5275604.49100
SECONDARY_XY_ORIGIN: 410369.81500 5275390.27800
NATION: US
STATE: MT
NW_QUAD_CORNER_XY: 410778.37100 5275304.99100
NE_QUAD_CORNER_XY: 415474.19100 5275234.97500
SE_QUAD_CORNERY_XY: 415373.47400 5268288.97300
SW_QUAD_CORNER_XY: 410672.05800 5268359.00200
SECONDARY_NW_QUAD_XY: 410775.58500 5275086.23600
SECONDARY_NE_QUAD_XY: 415471.55100 5275016.21800
SECONDARY_SE_QUAD_XY: 415370.83500 5268070.23600
SECONDARY_SW_QUAD_XY: 410669.27200 5268140.26800
RMSE_XY: 0.80000
IMAGE_SOURCE: BLACK AND WHITE FILM
SOURCE_IMAGE_ID: NAPP 8380 48
SOURCE_IMAGE_DATE: 1995 7 1
SOURCE_DEM_DATE: 1997 8 11
AGENCY: WESTERN MAPPING CENTER (WMC)
PRODUCER: Nies Mapping Group
PRODUCTION_SYSTEM: INTERGRAPH- ISPM,ISIR
COMPRESSION: UNDEFINED
STANDARD_VERSION: 1996 12
METADATA_DATE: 1997 12 30
DATA_FILE_SIZE: 41661852
BYTE_COUNT: 5466
