FILENAME: O4711228.NES.950445.tif
QUADRANGLE_NAME: BARR CREEK
QUADRANT: NE
WEST_LONGITUDE: -112 33 45.00000
EAST_LONGITUDE: -112 30 0.00000
NORTH_LATITUDE: 47 37 30.00000
SOUTH_LATITUDE: 47 33 45.00000
PRODUCTION_DATE: 1998 12 17
RASTER_ORDER: LEFT_RIGHT/TOP_BOTTOM
BAND_ORGANIZATION: SINGLE FILE
BAND_CONTENT: BLACK&WHITE
BAND_CONTENT: UNDEFINED
BAND_CONTENT: UNDEFINED
BITS_PER_PIXEL: 8
SAMPLES_AND_LINES: 5520 7680
HORIZONTAL_DATUM: NAD83
HORIZONTAL_COORDINATE_SYSTEM: UTM
COORDINATE_ZONE: 12
HORIZONTAL_UNITS: METERS
HORIZONTAL_RESOLUTION: 1.00000
SECONDARY_HORIZONTAL_DATUM: NAD27
XY_ORIGIN: 382080.00000 5276130.00000
SECONDARY_XY_ORIGIN: 382141.55000 5275915.83100
NATION: US
STATE: MT
NW_QUAD_CORNER_XY: 382603.67500 5275804.58900
NE_QUAD_CORNER_XY: 387299.42900 5275711.85700
SE_QUAD_CORNERY_XY: 387165.12900 5268765.94800
SW_QUAD_CORNER_XY: 382463.77600 5268858.69800
SECONDARY_NW_QUAD_XY: 382600.00900 5275585.85000
SECONDARY_NE_QUAD_XY: 387295.91000 5275493.11500
SECONDARY_SE_QUAD_XY: 387161.61000 5268547.22600
SECONDARY_SW_QUAD_XY: 382460.11100 5268639.97900
RMSE_XY: 2.29000
IMAGE_SOURCE: BLACK AND WHITE FILM
SOURCE_IMAGE_ID: NAPP 8384 157
SOURCE_IMAGE_DATE: 1995 08 05
SOURCE_DEM_DATE: 1998 01 01
AGENCY: WESTERN MAPPING CENTER (WMC)
PRODUCER: ANALYTICAL SURVEYS INC.
PRODUCTION_SYSTEM: ORBIT OR_RECTIFY V.5.2
COMPRESSION: UNDEFINED
STANDARD_VERSION: 1996 12
METADATA_DATE: 1998 12 18
DATA_FILE_SIZE: 42399120
BYTE_COUNT: 5520
