FILENAME: O4711228.SWS.950448.tif
QUADRANGLE_NAME: BARR CREEK
QUADRANT: SW
WEST_LONGITUDE: -112 37 30.00000
EAST_LONGITUDE: -112 33 45.00000
NORTH_LATITUDE: 47 33 45.00000
SOUTH_LATITUDE: 47 30 0.00000
PRODUCTION_DATE: 1998 12 17
RASTER_ORDER: LEFT_RIGHT/TOP_BOTTOM
BAND_ORGANIZATION: SINGLE FILE
BAND_CONTENT: BLACK&WHITE
BAND_CONTENT: UNDEFINED
BAND_CONTENT: UNDEFINED
BITS_PER_PIXEL: 8
SAMPLES_AND_LINES: 5520 7680
HORIZONTAL_DATUM: NAD83
HORIZONTAL_COORDINATE_SYSTEM: UTM
COORDINATE_ZONE: 12
HORIZONTAL_UNITS: METERS
HORIZONTAL_RESOLUTION: 1.00000
SECONDARY_HORIZONTAL_DATUM: NAD27
XY_ORIGIN: 377250.00000 5269260.00000
SECONDARY_XY_ORIGIN: 377311.66300 5269045.93600
NATION: US
STATE: MT
NW_QUAD_CORNER_XY: 377762.43600 5268955.23600
NE_QUAD_CORNER_XY: 382463.77600 5268858.69800
SE_QUAD_CORNERY_XY: 382324.01800 5261912.87800
SW_QUAD_CORNER_XY: 377617.08500 5262009.43400
SECONDARY_NW_QUAD_XY: 377758.62400 5268736.52000
SECONDARY_NE_QUAD_XY: 382460.11100 5268639.97900
SECONDARY_SE_QUAD_XY: 382320.35300 5261694.18000
SECONDARY_SW_QUAD_XY: 377613.27400 5261790.73900
RMSE_XY: 1.91000
IMAGE_SOURCE: BLACK AND WHITE FILM
SOURCE_IMAGE_ID: NAPP 8384 269
SOURCE_IMAGE_DATE: 1995 08 05
SOURCE_DEM_DATE: 1998 01 01
AGENCY: WESTERN MAPPING CENTER (WMC)
PRODUCER: ANALYTICAL SURVEYS INC.
PRODUCTION_SYSTEM: ORBIT OR_RECTIFY V.5.2
COMPRESSION: UNDEFINED
STANDARD_VERSION: 1996 12
METADATA_DATE: 1998 12 18
DATA_FILE_SIZE: 42399120
BYTE_COUNT: 5520
