FILENAME: O4711222.NWS.950485.tif
QUADRANGLE_NAME: NUNEMAKER HILL
QUADRANT: NW
WEST_LONGITUDE: -112 22 30.00000
EAST_LONGITUDE: -112 18 45.00000
NORTH_LATITUDE: 47 45 0.00000
SOUTH_LATITUDE: 47 41 15.00000
PRODUCTION_DATE: 1998 12 18
RASTER_ORDER: LEFT_RIGHT/TOP_BOTTOM
BAND_ORGANIZATION: SINGLE FILE
BAND_CONTENT: BLACK&WHITE
BAND_CONTENT: UNDEFINED
BAND_CONTENT: UNDEFINED
BITS_PER_PIXEL: 8
SAMPLES_AND_LINES: 5520 7680
HORIZONTAL_DATUM: NAD83
HORIZONTAL_COORDINATE_SYSTEM: UTM
COORDINATE_ZONE: 12
HORIZONTAL_UNITS: METERS
HORIZONTAL_RESOLUTION: 1.00000
SECONDARY_HORIZONTAL_DATUM: NAD27
XY_ORIGIN: 396420.00000 5289750.00000
SECONDARY_XY_ORIGIN: 396481.30600 5289535.59400
NATION: US
STATE: MT
NW_QUAD_CORNER_XY: 396937.55500 5289429.85300
NE_QUAD_CORNER_XY: 401622.13200 5289348.51300
SE_QUAD_CORNERY_XY: 401504.38800 5282402.41000
SW_QUAD_CORNER_XY: 396814.20200 5282483.76700
SECONDARY_NW_QUAD_XY: 396934.32800 5289211.06700
SECONDARY_NE_QUAD_XY: 401619.05200 5289129.72500
SECONDARY_SE_QUAD_XY: 401501.30800 5282183.64000
SECONDARY_SW_QUAD_XY: 396810.97600 5282265.00000
RMSE_XY: 0.92000
IMAGE_SOURCE: BLACK AND WHITE FILM
SOURCE_IMAGE_ID: NAPP 8381 101
SOURCE_IMAGE_DATE: 1995 07 28
SOURCE_DEM_DATE: 1986 00 00
AGENCY: WESTERN MAPPING CENTER (WMC)
PRODUCER: ANALYTICAL SURVEYS INC.
PRODUCTION_SYSTEM: ORBIT OR_RECTIFY V.5.2
COMPRESSION: UNDEFINED
STANDARD_VERSION: 1996 12
METADATA_DATE: 1998 12 21
DATA_FILE_SIZE: 42399120
BYTE_COUNT: 5520
