FILENAME: O4711219.SES.950431.tif
QUADRANGLE_NAME: CASTLE REEF
QUADRANT: SE
WEST_LONGITUDE: -112 41 15.00000
EAST_LONGITUDE: -112 37 30.00000
NORTH_LATITUDE: 47 41 15.00000
SOUTH_LATITUDE: 47 37 30.00000
PRODUCTION_DATE: 1998 12 16
RASTER_ORDER: LEFT_RIGHT/TOP_BOTTOM
BAND_ORGANIZATION: SINGLE FILE
BAND_CONTENT: BLACK&WHITE
BAND_CONTENT: UNDEFINED
BAND_CONTENT: UNDEFINED
BITS_PER_PIXEL: 8
SAMPLES_AND_LINES: 5520 7680
HORIZONTAL_DATUM: NAD83
HORIZONTAL_COORDINATE_SYSTEM: UTM
COORDINATE_ZONE: 12
HORIZONTAL_UNITS: METERS
HORIZONTAL_RESOLUTION: 1.00000
SECONDARY_HORIZONTAL_DATUM: NAD27
XY_ORIGIN: 372840.00000 5283270.00000
SECONDARY_XY_ORIGIN: 372901.66200 5283055.80000
NATION: US
STATE: MT
NW_QUAD_CORNER_XY: 373363.45400 5282947.33500
NE_QUAD_CORNER_XY: 378053.57800 5282847.05000
SE_QUAD_CORNERY_XY: 377907.93400 5275901.10800
SW_QUAD_CORNER_XY: 373212.20600 5276001.41300
SECONDARY_NW_QUAD_XY: 373359.49400 5282728.58300
SECONDARY_NE_QUAD_XY: 378049.76500 5282628.29400
SECONDARY_SE_QUAD_XY: 377904.12100 5275682.37200
SECONDARY_SW_QUAD_XY: 373208.24600 5275782.68000
RMSE_XY: 2.27000
IMAGE_SOURCE: BLACK AND WHITE FILM
SOURCE_IMAGE_ID: NAPP 8386 86
SOURCE_IMAGE_DATE: 1995 08 05
SOURCE_IMAGE_ID: NAPP 8386 115
SOURCE_IMAGE_DATE: 1995 08 05
SOURCE_DEM_DATE: 1990 00 00
AGENCY: WESTERN MAPPING CENTER (WMC)
PRODUCER: ANALYTICAL SURVEYS INC.
PRODUCTION_SYSTEM: ORBIT OR_RECTIFY V.5.2
COMPRESSION: UNDEFINED
STANDARD_VERSION: 1996 12
METADATA_DATE: 1998 12 20
DATA_FILE_SIZE: 42399120
BYTE_COUNT: 5520
