FILENAME: O4711217.SES.958262.tif
QUADRANGLE_NAME: GLENN CREEK
QUADRANT: SE
WEST_LONGITUDE: -112 56 15.00000
EAST_LONGITUDE: -112 52 30.00000
NORTH_LATITUDE: 47 41 15.00000
SOUTH_LATITUDE: 47 37 30.00000
PRODUCTION_DATE: 1998 12 11
RASTER_ORDER: LEFT_RIGHT/TOP_BOTTOM
BAND_ORGANIZATION: SINGLE FILE
BAND_CONTENT: BLACK&WHITE
BAND_CONTENT: UNDEFINED
BAND_CONTENT: UNDEFINED
BITS_PER_PIXEL: 8
SAMPLES_AND_LINES: 5550 7680
HORIZONTAL_DATUM: NAD83
HORIZONTAL_COORDINATE_SYSTEM: UTM
COORDINATE_ZONE: 12
HORIZONTAL_UNITS: METERS
HORIZONTAL_RESOLUTION: 1.00000
SECONDARY_HORIZONTAL_DATUM: NAD27
XY_ORIGIN: 354060.00000 5283690.00000
SECONDARY_XY_ORIGIN: 354122.02200 5283475.88100
NATION: US
STATE: MT
NW_QUAD_CORNER_XY: 354603.10400 5283386.34200
NE_QUAD_CORNER_XY: 359293.16800 5283270.91000
SE_QUAD_CORNERY_XY: 359125.10500 5276325.05300
SW_QUAD_CORNER_XY: 354429.43400 5276440.50800
SECONDARY_NW_QUAD_XY: 354598.55700 5283167.60300
SECONDARY_NE_QUAD_XY: 359288.76900 5283052.16800
SECONDARY_SE_QUAD_XY: 359120.70600 5276106.33000
SECONDARY_SW_QUAD_XY: 354424.88900 5276221.78900
RMSE_XY: 2.21400
IMAGE_SOURCE: BLACK AND WHITE FILM
SOURCE_IMAGE_ID: NAPP 9490 20
SOURCE_IMAGE_DATE: 1995 08 31
SOURCE_IMAGE_ID: NAPP 9490 22
SOURCE_IMAGE_DATE: 1995 08 31
SOURCE_DEM_DATE: 1988 00 00
AGENCY: WESTERN MAPPING CENTER (WMC)
PRODUCER: ANALYTICAL SURVEYS INC.
PRODUCTION_SYSTEM: ORBIT OR_RECTIFY V.5.2
COMPRESSION: UNDEFINED
STANDARD_VERSION: 1996 12
METADATA_DATE: 1998 12 16
DATA_FILE_SIZE: 42629550
BYTE_COUNT: 5550
