FILENAME: O4711215.SES.950370.tif
QUADRANGLE_NAME: CHOTEAU
QUADRANT: SE
WEST_LONGITUDE: -112 11 15.00000
EAST_LONGITUDE: -112 7 30.00000
NORTH_LATITUDE: 47 48 45.00000
SOUTH_LATITUDE: 47 45 0.00000
PRODUCTION_DATE: 1998 12 16
RASTER_ORDER: LEFT_RIGHT/TOP_BOTTOM
BAND_ORGANIZATION: SINGLE FILE
BAND_CONTENT: BLACK&WHITE
BAND_CONTENT: UNDEFINED
BAND_CONTENT: UNDEFINED
BITS_PER_PIXEL: 8
SAMPLES_AND_LINES: 5490 7650
HORIZONTAL_DATUM: NAD83
HORIZONTAL_COORDINATE_SYSTEM: UTM
COORDINATE_ZONE: 12
HORIZONTAL_UNITS: METERS
HORIZONTAL_RESOLUTION: 1.00000
SECONDARY_HORIZONTAL_DATUM: NAD27
XY_ORIGIN: 410610.00000 5296470.00000
SECONDARY_XY_ORIGIN: 410671.13400 5296255.40800
NATION: US
STATE: MT
NW_QUAD_CORNER_XY: 411097.95300 5296143.39200
NE_QUAD_CORNER_XY: 415776.94900 5296073.41900
SE_QUAD_CORNERY_XY: 415675.92800 5289127.19800
SW_QUAD_CORNER_XY: 410991.31900 5289197.18500
SECONDARY_NW_QUAD_XY: 411095.16600 5295924.58100
SECONDARY_NE_QUAD_XY: 415774.30800 5295854.60600
SECONDARY_SE_QUAD_XY: 415673.28800 5288908.40200
SECONDARY_SW_QUAD_XY: 410988.53300 5288978.39200
RMSE_XY: 0.89000
IMAGE_SOURCE: BLACK AND WHITE FILM
SOURCE_IMAGE_ID: NAPP 8380 133
SOURCE_IMAGE_DATE: 1995 07 01
SOURCE_DEM_DATE: 1987 00 00
AGENCY: WESTERN MAPPING CENTER (WMC)
PRODUCER: ANALYTICAL SURVEYS INC.
PRODUCTION_SYSTEM: ORBIT OR_RECTIFY V.5.2
COMPRESSION: UNDEFINED
STANDARD_VERSION: 1996 12
METADATA_DATE: 1998 12 17
DATA_FILE_SIZE: 42003990
BYTE_COUNT: 5490
