FILENAME: O4711214.NES.950356.tif
QUADRANGLE_NAME: TETON BUTTES
QUADRANT: NE
WEST_LONGITUDE: -112 18 45.00000
EAST_LONGITUDE: -112 15 0.00000
NORTH_LATITUDE: 47 52 30.00000
SOUTH_LATITUDE: 47 48 45.00000
PRODUCTION_DATE: 1998 12 17
RASTER_ORDER: LEFT_RIGHT/TOP_BOTTOM
BAND_ORGANIZATION: SINGLE FILE
BAND_CONTENT: BLACK&WHITE
BAND_CONTENT: UNDEFINED
BAND_CONTENT: UNDEFINED
BITS_PER_PIXEL: 8
SAMPLES_AND_LINES: 5490 7650
HORIZONTAL_DATUM: NAD83
HORIZONTAL_COORDINATE_SYSTEM: UTM
COORDINATE_ZONE: 12
HORIZONTAL_UNITS: METERS
HORIZONTAL_RESOLUTION: 1.00000
SECONDARY_HORIZONTAL_DATUM: NAD27
XY_ORIGIN: 401370.00000 5303550.00000
SECONDARY_XY_ORIGIN: 401431.30900 5303335.32100
NATION: US
STATE: MT
NW_QUAD_CORNER_XY: 401857.97400 5303240.93500
NE_QUAD_CORNER_XY: 406531.32800 5303163.41200
SE_QUAD_CORNERY_XY: 406418.96800 5296217.14800
SW_QUAD_CORNER_XY: 401739.99400 5296294.68800
SECONDARY_NW_QUAD_XY: 401854.89300 5303022.11200
SECONDARY_NE_QUAD_XY: 406528.39400 5302944.58600
SECONDARY_SE_QUAD_XY: 406416.03500 5295998.34000
SECONDARY_SW_QUAD_XY: 401736.91400 5296075.88200
RMSE_XY: 1.16000
IMAGE_SOURCE: BLACK AND WHITE FILM
SOURCE_IMAGE_ID: NAPP 8381 21
SOURCE_IMAGE_DATE: 1995 07 28
SOURCE_DEM_DATE: 1987 00 00
AGENCY: WESTERN MAPPING CENTER (WMC)
PRODUCER: ANALYTICAL SURVEYS INC.
PRODUCTION_SYSTEM: ORBIT OR_RECTIFY V.5.2
COMPRESSION: UNDEFINED
STANDARD_VERSION: 1996 12
METADATA_DATE: 1998 12 30
DATA_FILE_SIZE: 42003990
BYTE_COUNT: 5490
