FILENAME: O4711213.SES.950244.tif
QUADRANGLE_NAME: WATSON FLATS
QUADRANT: SE
WEST_LONGITUDE: -112 26 15.00000
EAST_LONGITUDE: -112 22 30.00000
NORTH_LATITUDE: 47 48 45.00000
SOUTH_LATITUDE: 47 45 0.00000
PRODUCTION_DATE: 1998 12 16
RASTER_ORDER: LEFT_RIGHT/TOP_BOTTOM
BAND_ORGANIZATION: SINGLE FILE
BAND_CONTENT: BLACK&WHITE
BAND_CONTENT: UNDEFINED
BAND_CONTENT: UNDEFINED
BITS_PER_PIXEL: 8
SAMPLES_AND_LINES: 5520 7650
HORIZONTAL_DATUM: NAD83
HORIZONTAL_COORDINATE_SYSTEM: UTM
COORDINATE_ZONE: 12
HORIZONTAL_UNITS: METERS
HORIZONTAL_RESOLUTION: 1.00000
SECONDARY_HORIZONTAL_DATUM: NAD27
XY_ORIGIN: 391860.00000 5296770.00000
SECONDARY_XY_ORIGIN: 391921.38300 5296555.48000
NATION: US
STATE: MT
NW_QUAD_CORNER_XY: 392382.08000 5296461.11800
NE_QUAD_CORNER_XY: 397061.03100 5296376.01100
SE_QUAD_CORNERY_XY: 396937.55500 5289429.85300
SW_QUAD_CORNER_XY: 392252.98900 5289514.97800
SECONDARY_NW_QUAD_XY: 392378.70600 5296242.31700
SECONDARY_NE_QUAD_XY: 397057.80400 5296157.20800
SECONDARY_SE_QUAD_XY: 396934.32800 5289211.06700
SECONDARY_SW_QUAD_XY: 392249.61600 5289296.19500
RMSE_XY: 1.03000
IMAGE_SOURCE: BLACK AND WHITE FILM
SOURCE_IMAGE_ID: NAPP 8384 45
SOURCE_IMAGE_DATE: 1995 08 04
SOURCE_DEM_DATE: 1987 00 00
AGENCY: WESTERN MAPPING CENTER (WMC)
PRODUCER: ANALYTICAL SURVEYS INC.
PRODUCTION_SYSTEM: ORBIT OR_RECTIFY V.5.2
COMPRESSION: UNDEFINED
STANDARD_VERSION: 1996 12
METADATA_DATE: 1998 12 17
DATA_FILE_SIZE: 42233520
BYTE_COUNT: 5520
