FILENAME: O4711212.NWS.950136.tif
QUADRANGLE_NAME: LAKE THEBOE
QUADRANT: NW
WEST_LONGITUDE: -112 37 30.00000
EAST_LONGITUDE: -112 33 45.00000
NORTH_LATITUDE: 47 52 30.00000
SOUTH_LATITUDE: 47 48 45.00000
PRODUCTION_DATE: 1998 12 15
RASTER_ORDER: LEFT_RIGHT/TOP_BOTTOM
BAND_ORGANIZATION: SINGLE FILE
BAND_CONTENT: BLACK&WHITE
BAND_CONTENT: UNDEFINED
BAND_CONTENT: UNDEFINED
BITS_PER_PIXEL: 8
SAMPLES_AND_LINES: 5520 7680
HORIZONTAL_DATUM: NAD83
HORIZONTAL_COORDINATE_SYSTEM: UTM
COORDINATE_ZONE: 12
HORIZONTAL_UNITS: METERS
HORIZONTAL_RESOLUTION: 1.00000
SECONDARY_HORIZONTAL_DATUM: NAD27
XY_ORIGIN: 377970.00000 5304000.00000
SECONDARY_XY_ORIGIN: 378031.61200 5303785.35200
NATION: US
STATE: MT
NW_QUAD_CORNER_XY: 378491.38500 5303685.29600
NE_QUAD_CORNER_XY: 383164.67700 5303588.85700
SE_QUAD_CORNERY_XY: 383024.21600 5296642.68400
SW_QUAD_CORNER_XY: 378345.30400 5296739.14400
SECONDARY_NW_QUAD_XY: 378487.57100 5303466.48600
SECONDARY_NE_QUAD_XY: 383161.00900 5303370.04500
SECONDARY_SE_QUAD_XY: 383020.54900 5296423.88900
SECONDARY_SW_QUAD_XY: 378341.49000 5296520.35200
RMSE_XY: 1.98000
IMAGE_SOURCE: BLACK AND WHITE FILM
SOURCE_IMAGE_ID: NAPP 8384 259
SOURCE_IMAGE_DATE: 1995 08 05
SOURCE_IMAGE_ID: NAPP 8384 257
SOURCE_IMAGE_DATE: 1995 08 05
SOURCE_DEM_DATE: 1987 00 00
AGENCY: WESTERN MAPPING CENTER (WMC)
PRODUCER: ANALYTICAL SURVEYS INC.
PRODUCTION_SYSTEM: ORBIT OR_RECTIFY V.5.2
COMPRESSION: UNDEFINED
STANDARD_VERSION: 1996 12
METADATA_DATE: 1998 12 17
DATA_FILE_SIZE: 42399120
BYTE_COUNT: 5520
