FILENAME: O4711212.SES.950139.tif
QUADRANGLE_NAME: LAKE THEBOE
QUADRANT: SE
WEST_LONGITUDE: -112 33 45.00000
EAST_LONGITUDE: -112 30 0.00000
NORTH_LATITUDE: 47 48 45.00000
SOUTH_LATITUDE: 47 45 0.00000
PRODUCTION_DATE: 1998 12 15
RASTER_ORDER: LEFT_RIGHT/TOP_BOTTOM
BAND_ORGANIZATION: SINGLE FILE
BAND_CONTENT: BLACK&WHITE
BAND_CONTENT: UNDEFINED
BAND_CONTENT: UNDEFINED
BITS_PER_PIXEL: 8
SAMPLES_AND_LINES: 5520 7680
HORIZONTAL_DATUM: NAD83
HORIZONTAL_COORDINATE_SYSTEM: UTM
COORDINATE_ZONE: 12
HORIZONTAL_UNITS: METERS
HORIZONTAL_RESOLUTION: 1.00000
SECONDARY_HORIZONTAL_DATUM: NAD27
XY_ORIGIN: 382500.00000 5296950.00000
SECONDARY_XY_ORIGIN: 382561.50900 5296735.51200
NATION: US
STATE: MT
NW_QUAD_CORNER_XY: 383024.21600 5296642.68400
NE_QUAD_CORNER_XY: 387703.14100 5296550.00900
SE_QUAD_CORNERY_XY: 387568.43600 5289603.88800
SW_QUAD_CORNER_XY: 382883.89500 5289696.58200
SECONDARY_NW_QUAD_XY: 383020.54900 5296423.88900
SECONDARY_NE_QUAD_XY: 387699.62100 5296331.21100
SECONDARY_SE_QUAD_XY: 387564.91600 5289385.10700
SECONDARY_SW_QUAD_XY: 382880.22800 5289477.80500
RMSE_XY: 1.79000
IMAGE_SOURCE: BLACK AND WHITE FILM
SOURCE_IMAGE_ID: NAPP 8384 163
SOURCE_IMAGE_DATE: 1995 08 05
SOURCE_IMAGE_ID: NAPP 8384 165
SOURCE_IMAGE_DATE: 1995 08 05
SOURCE_DEM_DATE: 1987 00 00
AGENCY: WESTERN MAPPING CENTER (WMC)
PRODUCER: ANALYTICAL SURVEYS INC.
PRODUCTION_SYSTEM: ORBIT OR_RECTIFY V.5.2
COMPRESSION: UNDEFINED
STANDARD_VERSION: 1996 12
METADATA_DATE: 1998 12 18
DATA_FILE_SIZE: 42399120
BYTE_COUNT: 5520
