FILENAME: O4711209.NES.958240.tif
QUADRANGLE_NAME: GATES PARK
QUADRANT: NE
WEST_LONGITUDE: -112 56 15.00000
EAST_LONGITUDE: -112 52 30.00000
NORTH_LATITUDE: 47 52 30.00000
SOUTH_LATITUDE: 47 48 45.00000
PRODUCTION_DATE: 1998 12 10
RASTER_ORDER: LEFT_RIGHT/TOP_BOTTOM
BAND_ORGANIZATION: SINGLE FILE
BAND_CONTENT: BLACK&WHITE
BAND_CONTENT: UNDEFINED
BAND_CONTENT: UNDEFINED
BITS_PER_PIXEL: 8
SAMPLES_AND_LINES: 5550 7710
HORIZONTAL_DATUM: NAD83
HORIZONTAL_COORDINATE_SYSTEM: UTM
COORDINATE_ZONE: 12
HORIZONTAL_UNITS: METERS
HORIZONTAL_RESOLUTION: 1.00000
SECONDARY_HORIZONTAL_DATUM: NAD27
XY_ORIGIN: 354570.00000 5304540.00000
SECONDARY_XY_ORIGIN: 354632.07900 5304325.42600
NATION: US
STATE: MT
NW_QUAD_CORNER_XY: 355125.15600 5304224.24900
NE_QUAD_CORNER_XY: 359798.37000 5304108.88900
SE_QUAD_CORNERY_XY: 359629.80100 5297162.82800
SW_QUAD_CORNER_XY: 354950.96500 5297278.21200
SECONDARY_NW_QUAD_XY: 355120.60800 5304005.45600
SECONDARY_NE_QUAD_XY: 359793.96900 5303890.09400
SECONDARY_SE_QUAD_XY: 359625.40000 5296944.05000
SECONDARY_SW_QUAD_XY: 354946.41700 5297059.43700
RMSE_XY: 3.17200
IMAGE_SOURCE: BLACK AND WHITE FILM
SOURCE_IMAGE_ID: NAPP 9490 14
SOURCE_IMAGE_DATE: 1995 08 31
SOURCE_IMAGE_ID: NAPP 9491 50
SOURCE_IMAGE_DATE: 1995 09 01
SOURCE_DEM_DATE: 1995 00 00
AGENCY: WESTERN MAPPING CENTER (WMC)
PRODUCER: ANALYTICAL SURVEYS INC.
PRODUCTION_SYSTEM: ORBIT OR_RECTIFY V.5.2
COMPRESSION: UNDEFINED
STANDARD_VERSION: 1996 12
METADATA_DATE: 1998 12 14
DATA_FILE_SIZE: 42796050
BYTE_COUNT: 5550
